BEGIN:VCALENDAR
VERSION:2.0
PRODID:-//LA South REIA - ECPv6.15.15//NONSGML v1.0//EN
CALSCALE:GREGORIAN
METHOD:PUBLISH
X-WR-CALNAME:LA South REIA
X-ORIGINAL-URL:https://lasouthreia.com
X-WR-CALDESC:Events for LA South REIA
REFRESH-INTERVAL;VALUE=DURATION:PT1H
X-Robots-Tag:noindex
X-PUBLISHED-TTL:PT1H
BEGIN:VTIMEZONE
TZID:America/Los_Angeles
BEGIN:DAYLIGHT
TZOFFSETFROM:-0800
TZOFFSETTO:-0700
TZNAME:PDT
DTSTART:20210314T100000
END:DAYLIGHT
BEGIN:STANDARD
TZOFFSETFROM:-0700
TZOFFSETTO:-0800
TZNAME:PST
DTSTART:20211107T090000
END:STANDARD
BEGIN:DAYLIGHT
TZOFFSETFROM:-0800
TZOFFSETTO:-0700
TZNAME:PDT
DTSTART:20220313T100000
END:DAYLIGHT
BEGIN:STANDARD
TZOFFSETFROM:-0700
TZOFFSETTO:-0800
TZNAME:PST
DTSTART:20221106T090000
END:STANDARD
BEGIN:DAYLIGHT
TZOFFSETFROM:-0800
TZOFFSETTO:-0700
TZNAME:PDT
DTSTART:20230312T100000
END:DAYLIGHT
BEGIN:STANDARD
TZOFFSETFROM:-0700
TZOFFSETTO:-0800
TZNAME:PST
DTSTART:20231105T090000
END:STANDARD
END:VTIMEZONE
BEGIN:VTIMEZONE
TZID:America/Los_Angeles
BEGIN:DAYLIGHT
TZOFFSETFROM:-0800
TZOFFSETTO:-0700
TZNAME:PDT
DTSTART:20170312T100000
END:DAYLIGHT
BEGIN:STANDARD
TZOFFSETFROM:-0700
TZOFFSETTO:-0800
TZNAME:PST
DTSTART:20171105T090000
END:STANDARD
BEGIN:DAYLIGHT
TZOFFSETFROM:-0800
TZOFFSETTO:-0700
TZNAME:PDT
DTSTART:20180311T100000
END:DAYLIGHT
BEGIN:STANDARD
TZOFFSETFROM:-0700
TZOFFSETTO:-0800
TZNAME:PST
DTSTART:20181104T090000
END:STANDARD
BEGIN:DAYLIGHT
TZOFFSETFROM:-0800
TZOFFSETTO:-0700
TZNAME:PDT
DTSTART:20190310T100000
END:DAYLIGHT
BEGIN:STANDARD
TZOFFSETFROM:-0700
TZOFFSETTO:-0800
TZNAME:PST
DTSTART:20191103T090000
END:STANDARD
BEGIN:DAYLIGHT
TZOFFSETFROM:-0800
TZOFFSETTO:-0700
TZNAME:PDT
DTSTART:20200308T100000
END:DAYLIGHT
BEGIN:STANDARD
TZOFFSETFROM:-0700
TZOFFSETTO:-0800
TZNAME:PST
DTSTART:20201101T090000
END:STANDARD
BEGIN:DAYLIGHT
TZOFFSETFROM:-0800
TZOFFSETTO:-0700
TZNAME:PDT
DTSTART:20210314T100000
END:DAYLIGHT
BEGIN:STANDARD
TZOFFSETFROM:-0700
TZOFFSETTO:-0800
TZNAME:PST
DTSTART:20211107T090000
END:STANDARD
END:VTIMEZONE
BEGIN:VEVENT
DTSTART;TZID=America/Los_Angeles:20220110T190000
DTEND;TZID=America/Los_Angeles:20220110T210000
DTSTAMP:20260423T174421
CREATED:20220106T221900Z
LAST-MODIFIED:20220106T221900Z
UID:19511-1641841200-1641848400@lasouthreia.com
SUMMARY:The Power of Radical Focus: Real Estate Hobbyist to Financially Independent in 3 years!
DESCRIPTION:The POWER of RADICAL FOCUS:\nReal Estate Hobbyist to Financially Independent in 3 Years\nLA South REIA is excited to start 2022 with a powerful speaker and role model for all real estate hobbyists out there! Adrian Smude\, Founder and CEO of MyWifeBuys.com\, has been a real estate investor for nearly 20 years. After several years of dabbling in real estate and making small moves in the business\, Adrian decided to shift his focus to one strategy: Mobile Homes on Land and with one goal: Financial Independence in a few short years. In the process of accomplishing his goal\, Adrian has been repeatedly tapped to speak nationally about his love of mobile homes\, real estate\, and helping others reach their investment goals as well. \nReal estate can work for ANYONE\, regardless of the asset you invest in. Whether you ever plan to invest in mobile homes or not\, join us to learn how you can move from hobbyist to independence in a few focused steps. Imagine where you could be in just 3 years. With radical focus\, Adrian will show you EXACTLY how to make your vision a reality. \nRegister today! \n\nAgenda:\n7:00-7:30: General Meeting and Market Updates\n7:30-9:00: Adrian Smude\, Investor with Radical Focus \nThis meeting is online due to current COVID surge. Registration is required to receive the meeting link. Thank you for your understanding. Stay healthy.
URL:https://lasouthreia.com/event/the-power-of-radical-focus-adrian-smude/
LOCATION:Online
CATEGORIES:Future Events,Main Event,Webinars
ATTACH;FMTTYPE=image/png:https://lasouthreia.com/wp-content/uploads/Jan-2022-ME.png
ORGANIZER;CN="LA South REIA":MAILTO:info@www.lasouthreia.com
END:VEVENT
BEGIN:VEVENT
DTSTART;TZID=America/Los_Angeles:20201001T190000
DTEND;TZID=America/Los_Angeles:20201001T203000
DTSTAMP:20260423T174421
CREATED:20200917T224918Z
LAST-MODIFIED:20200917T225525Z
UID:16709-1601578800-1601584200@lasouthreia.com
SUMMARY:Thursday Night Live: Market Update Q&A
DESCRIPTION:We believe that the COVID-19 pandemic will result in significant economic impact that will eventually lead to incredible investing opportunities. Smart investors will be positioned to take advantage of it!\nEach week\, LA South REIA Executive Director\, Lisa Hoegler\, brings you an online Market Update & open investing Q&A during these unprecedented times. With news\, rules\, regulations\, and orders changing daily\, it’s more important than ever to stay connected. Lisa shares her weekly thoughts on the market news and predicts how it will impact investors. Join us for these insights and to share your own!\n\nThis event is free.\nClick HERE to register.
URL:https://lasouthreia.com/event/tnl-aug20-copy/
LOCATION:Online
CATEGORIES:Future Events,Main Event,Webinars
ATTACH;FMTTYPE=image/jpeg:https://lasouthreia.com/wp-content/uploads/Market-Updates.jpg
ORGANIZER;CN="LA South REIA":MAILTO:info@www.lasouthreia.com
END:VEVENT
BEGIN:VEVENT
DTSTART;TZID=America/Los_Angeles:20200922T190000
DTEND;TZID=America/Los_Angeles:20200922T200000
DTSTAMP:20260423T174421
CREATED:20200920T003341Z
LAST-MODIFIED:20200920T011221Z
UID:16723-1600801200-1600804800@lasouthreia.com
SUMMARY:SPECIAL EVENT with Mindset Master\, Dr. Alok Trivedi
DESCRIPTION:EARN MORE. FAIL LESS. FIND FULFILLMENT.\nWhy Your Financial Situation is a Symptom\, Not the Cause\nLA South REIA is exceptionally honored to have best-selling author and Mindset Master\, Dr. Alok Trivedi\, join us for a special event this coming Tuesday. Dr. Trivedi is Executive Director Lisa Hoegler’s personal mindset coach and mentor. After years of hitting a ceiling\, Dr. T is responsible for helping Lisa (and countless other investors and entrepreneurs) breakthrough limiting beliefs and get out of their own way\, so their businesses and lives could soar in ways they never thought possible! As a personal favor to Lisa\, Dr. T has made time in his schedule to join us and discuss why chasing success to improve your financial situation is holding you back and bringing you more of the the things you don’t want. During our live interview\, he will debunk one of the most common misconceptions of investors:  My current financial situation is the cause or reason that <fill in an emotion>.  You will discover why your finances are not the cause of anything\, but merely the symptoms of other aspects of your life.\nIf you are ready to have your old paradigms challenged and open to understanding the science around what’s holding you back from everything you’ve ever wanted to achieve\, join us this Tuesday night. You will be on your path to Earn More\, Fail Less\, and Find Fulfillment.\nClick HERE to Register.\nAll Guests are Welcome. (Colleagues\, Children\, Spouses\, Friends)\n\nAbout Dr. Trivedi\nDr. Trivedi is a media personality and author of “Chasing Success: Lessons in Aligned Performance” and has been featured on CBS\, NBC\, Fox News\, Shape Magazine\, and Global News to name a few.In the last 12 months he has been in front of over 100 million people worldwide helping them navigate their psychology and mindset through challenging and stressful times.Dr. Trivedi built one of the largest healthcare clinics in the country. For 27 years\, he has been studying the science of success\, fulfillment and human behavior. Dr. T is an expert in rewiring people’s brains to turn stress into success.He is sought out by entrepreneurs and c-suite executives to rewire their brains to cut the bs\, get to the cause to transform their money\, business\, and life.Clients include the FDIC\, Berkshire Hathaway\, WNBA stars\, Professional Golfers\, Olympic Tennis Players\, Corporate Executives and many more.
URL:https://lasouthreia.com/event/dr-alok-trivedi/
LOCATION:Online
CATEGORIES:Future Events,Main Event,Webinars
ATTACH;FMTTYPE=image/jpeg:https://lasouthreia.com/wp-content/uploads/TrivediEvent.jpg
ORGANIZER;CN="LA South REIA":MAILTO:info@www.lasouthreia.com
END:VEVENT
BEGIN:VEVENT
DTSTART;TZID=America/Los_Angeles:20200820T190000
DTEND;TZID=America/Los_Angeles:20200820T203000
DTSTAMP:20260423T174421
CREATED:20200731T023128Z
LAST-MODIFIED:20200731T023544Z
UID:16308-1597950000-1597955400@lasouthreia.com
SUMMARY:Thursday Night Live: Market Update Q&A
DESCRIPTION:We believe that the COVID-19 pandemic will result in significant economic impact that will eventually lead to incredible investing opportunities. Smart investors will be positioned to take advantage of it!\nEach week\, LA South REIA Executive Director\, Lisa Hoegler\, brings you an online Market Update & open investing Q&A during these unprecedented times. With news\, rules\, regulations\, and orders changing daily\, it’s more important than ever to stay connected. Lisa shares her weekly thoughts on the market news and predicts how it will impact investors. Join us for these insights and to share your own!\n\nThis event is free.\nClick HERE to register.
URL:https://lasouthreia.com/event/tnl-aug20/
LOCATION:Online
CATEGORIES:Future Events,Main Event,Webinars
ATTACH;FMTTYPE=image/jpeg:https://lasouthreia.com/wp-content/uploads/Market-Updates.jpg
ORGANIZER;CN="LA South REIA":MAILTO:info@www.lasouthreia.com
END:VEVENT
BEGIN:VEVENT
DTSTART;TZID=America/Los_Angeles:20200530T090000
DTEND;TZID=America/Los_Angeles:20200530T170000
DTSTAMP:20260423T174421
CREATED:20200511T224936Z
LAST-MODIFIED:20200519T044125Z
UID:15544-1590829200-1590858000@lasouthreia.com
SUMMARY:RECESSION 2020: The ULTIMATE Creative Marketing & Acquisition Workshop
DESCRIPTION:RECESSION 2020: The Ultimate Creative Marketing & Acquisition Workshop to Help You Navigate BRILLIANTLY!\nReady to navigate the INCREDIBLE opportunity handed to investors during Recession 2020? Look no further than 2 FULL DAYS of training to help you position yourself\, navigate\, and win BIG during this recession. We see the desperation and motivation in sellers already. Unemployment is sky high\, with little relief in sight. No matter how you look at the economy\, COVID-19 spells O-P-P-O-R-T-U-N-I-T-Y for real estate investors of all types. If you are looking to learn how to navigate this downturn & how to position yourself for success on the upswing\, look no further than a 2-day digest of everything you need to know to grab on to this once-in-a-lifetime opportunity! This workshop is for ALL types of investment strategies (rental\, notes\, wholesale\, rehab) and ALL types of experience levels! \nBuckle up and get ready for a ride you won’t forget! \nAll attendees MUST register for this event to get the webinar link.\n\nStop overpaying for events! Join LA South REIA today! \nCLICK HERE TO JOIN TODAY
URL:https://lasouthreia.com/event/recession-2020-ultimate-workshop/
LOCATION:Online
CATEGORIES:Future Events,Main Event,Webinars,Workshops
ATTACH;FMTTYPE=image/jpeg:https://lasouthreia.com/wp-content/uploads/Workshop-rec-2020.jpg
ORGANIZER;CN="LA South REIA":MAILTO:info@www.lasouthreia.com
END:VEVENT
BEGIN:VEVENT
DTSTART;TZID=America/Los_Angeles:20200514T190000
DTEND;TZID=America/Los_Angeles:20200514T203000
DTSTAMP:20260423T174421
CREATED:20200506T193444Z
LAST-MODIFIED:20200624T210845Z
UID:15457-1589482800-1589488200@lasouthreia.com
SUMMARY:Thursday Night Live: Market Q&A
DESCRIPTION:We believe that the COVID-19 pandemic will result in significant economic impact that will eventually lead to incredible investing opportunities. Smart investors will be positioned to take advantage of it!\nEach week\, LA South REIA Executive Director\, Lisa Hoegler\, brings you an online Market Update & open investing Q&A during these unprecedented times. With news\, rules\, regulations\, and orders changing daily\, it’s more important than ever to stay connected. Lisa shares her weekly thoughts on the market news and predicts how it will impact investors. Join us for these insights and to share your own!\n\nThis event is free.\nClick HERE to register.
URL:https://lasouthreia.com/event/tnl-may14/
LOCATION:Online
CATEGORIES:Future Events,Webinars
ATTACH;FMTTYPE=image/jpeg:https://lasouthreia.com/wp-content/uploads/Market-Updates.jpg
ORGANIZER;CN="LA South REIA":MAILTO:info@www.lasouthreia.com
END:VEVENT
BEGIN:VEVENT
DTSTART;TZID=America/Los_Angeles:20200507T190000
DTEND;TZID=America/Los_Angeles:20200507T203000
DTSTAMP:20260423T174421
CREATED:20200506T191621Z
LAST-MODIFIED:20200506T200051Z
UID:15451-1588878000-1588883400@lasouthreia.com
SUMMARY:SPECIAL EVENT: Will the CARES Act Reduce My Tax Liability?
DESCRIPTION:Each week\, LA South REIA Executive Director\, Lisa Hoegler\, brings you an online Market Update & open investing Q&A during the COVID-19 stay-at-home. This week\, in addition to the market update\, we are please to have a guest speaker address the topic of:\nWill the CARES Act Reduce My Tax Liability?\nUnderstanding the Tax Implications for the Real Estate Industry\nWondering what tax implications it will have on your situation? During this presentation\, Tony Watson of Robert Hall & Associates will help you understand what actions you can take now\, as well as real life tried-and-true tax strategies used in the real estate industry. Whether you’re an investor\, agent\, or lender\, you will be able to use these tips and tricks to navigate through the 2020 tax year and retain more of your real estate wealth into the next decade!\n\nAbout the guest speaker:\nTony Watson is an Enrolled Agent who focuses on providing personalized financial guidance and tax preparation services to individuals and businesses. As a federally licensed tax practitioner\, Tony helps his clients make sound financial decisions and works to ensure all eligible deductions are received when preparing taxes. Should a client need assistance with audits\, collections\, or appeals\, Tony is empowered by the U.S. Department of Treasury to represent taxpayers before all administrative levels of the Internal Revenue Service.\n\nThis event is free. Click HERE to register.\n\nAgenda:\n7:00-7:30pm  Market Update & Open Q&A\n7:30-8:30pm  Guest Speaker\, Tony Watson
URL:https://lasouthreia.com/event/tnl-cares-act/
LOCATION:Online
CATEGORIES:Future Events,Subgroups,Webinars
ATTACH;FMTTYPE=image/jpeg:https://lasouthreia.com/wp-content/uploads/Covid-Special.jpg
ORGANIZER;CN="LA South REIA":MAILTO:info@www.lasouthreia.com
END:VEVENT
BEGIN:VEVENT
DTSTART;TZID=America/Los_Angeles:20191105T180000
DTEND;TZID=America/Los_Angeles:20191203T200000
DTSTAMP:20260423T174421
CREATED:20191010T051200Z
LAST-MODIFIED:20191106T020908Z
UID:14931-1572976800-1575403200@lasouthreia.com
SUMMARY:Real Estate Investing LIVE ONLINE Jump-Start Course
DESCRIPTION:JUMPSTART YOUR REAL ESTATE INVESTING CAREER NOW!!!\nDON’T WAIT!!!\nInvestors…start your money-making engines!\n\nLA South REIA is proud to announce the FINAL real estate investing class of the year: Zero to Sixty Jumpstart Course!\n\nThis first-of-its-kind class will be help over 5 weeks so that you have not only the time to learn\, but implement\, AND get access to live mentoring along the way!\n\nEvery Tuesday\, students will learn exactly how to quickstart their business through 2-hr\, online training sessions taught LIVE each week by\nHenry Eagleson & Lisa Hoegler.\n\nEvery Wednesday\, Lisa & Henry will host 2-hr LIVE group\, online\, mentoring sessions where you can bring your questions\, challenges\, or ask for advice.\n\nNever have we offered such hands-on access for such a ridiculously low cost!\n\n\nScheduled Tuesday topics covered during the course include: \n\n\n\nThe Pros and Cons of Wholesaling\, Flipping\, & Buy & Hold – and which is right for you\nHow to Find Your Deals\nHow to Calculate Your Deals\nStructuring Deals\, Making Offers\, and Talking to Sellers\nHow to Maximize the Profit and Determine the Best Exit Strategy for You\nClosing the Deal and Getting Paid\nExecuting your 5 Week Business Blueprint to Get Deals Flowing\nTop Systems\, Lead Sources\, and Tech Tips to Jumpstart your Success\nReinvesting your Profits to Accelerate your Deal Machine\n…and More!  \n\n\nDon’t be fooled by the price!\nThis is 10 hours of ultra-inclusive information with NO FLUFF –\nplus – 10 hours of bonus mentoring with industry experts!\n\nIf you are serious about jumpstarting your business\nand making some SERIOUS money in 2020\,\nregister for this course TODAY!\nCourse dates will be: \nNOV 5  TUES 6PM-8PM\nNOV 12 TUES 6PM-8PM\nNOV 19 TUES 6PM-8PM\nNOV 26 TUES 6PM-8PM\nDEC 3  TUES 6PM-8PM \nAdditional open live mentoring sessions: To Be Determined
URL:https://lasouthreia.com/event/real-estate-investing-live-online-jump-start-course/
CATEGORIES:Future Events,Mentoring,Webinars,Workshops
ATTACH;FMTTYPE=image/jpeg:https://lasouthreia.com/wp-content/uploads/0-60-course.jpg
END:VEVENT
BEGIN:VEVENT
DTSTART;TZID=America/Los_Angeles:20190820T190000
DTEND;TZID=America/Los_Angeles:20190820T200000
DTSTAMP:20260423T174421
CREATED:20190812T034418Z
LAST-MODIFIED:20190812T034658Z
UID:14489-1566327600-1566331200@lasouthreia.com
SUMMARY:ANTHONY CHARA 1-HOUR WEBINAR
DESCRIPTION:Topic:  Anthony Chara: Multi-Family Success Stories\n\nDescription:  Join Anthony for a 60-minute webinar\nto learn how his students are crushing it NATIONWIDE\nwith his proven strategies and how you can\nstart investing with VERY LITTLE CAPITAL!\n\nTime: Aug 20\, 2019 07:00 PM Pacific Time (US and Canada) in Pacific Time (US and Canada) \n\n\n\nCLICK HERE TO REGISTER FOR FREE\n  \n 
URL:https://lasouthreia.com/event/anthony-chara-1-hour-webinar/
CATEGORIES:Future Events,Webinars
ATTACH;FMTTYPE=image/png:https://lasouthreia.com/wp-content/uploads/Anthony-Chara-WEBINAR.png
END:VEVENT
BEGIN:VEVENT
DTSTART;TZID=America/Los_Angeles:20180920T190000
DTEND;TZID=America/Los_Angeles:20180920T200000
DTSTAMP:20260423T174421
CREATED:20180917T195148Z
LAST-MODIFIED:20180917T200428Z
UID:12595-1537470000-1537473600@lasouthreia.com
SUMMARY:FREE Privy Webinar
DESCRIPTION:Tired of asking your agent for COMPS\, or finding unreliable data from the web?\nAre you having trouble finding REAL DEALS? \n\n\n\nThere is a new game in town for real estate investors. The all New\, Privy REI Software. \n\n\n\nThe real estate investing world is behind the times when it comes to technology. The fact of the matter is there aren’t enough hours in the day for you to do all the things you need to do in a day to be a successful real estate investor. You need a way to shortcut the system. There are ways to do this… it’s called “REI Hacking”! \n\n\n\n\n\n\n\nFor example: Did you know you can use the collective knowledge of successful real estate investors from right here in the DMV? Use their years of experience to become a better real estate investor in a matter of minutes. \n\n\n\nFor a limited time you can try Privy out risk-free. You’ll experience the Edge that Privy gives and learn several technology powered #REIHACKS: \n\n\n1. How to see what other investors are having success with\n2. How to find deals on autopilot\n3. How to get access to MLS data and pull your own comps\n4. How to analyze any Property and know if it’s a deal quickly\n5. How to keep your finger on the pulse of your local market\n6. How to find the hottest investment areas\n\nDo not miss this opportunity to try Privy REI Software risk-free. Try it out for yourself you’ll shorten your learning curve and eliminate many of the barriers holding you from REI goals.\n\nJoin us for a FREE webinar this\nThursday\, September 20 from 7-8 to learn how you can get the EDGE\, risk-free!\n\n\nCLICK HERE TO REGISTER
URL:https://lasouthreia.com/event/free-privy-webinar/
CATEGORIES:Future Events,Webinars
ATTACH;FMTTYPE=image/png:https://lasouthreia.com/wp-content/uploads/2018/09/Privy-Webinar-promo-FULL-SIZE.png
ORGANIZER;CN="LA South REIA":MAILTO:info@www.lasouthreia.com
END:VEVENT
END:VCALENDAR