BEGIN:VCALENDAR
VERSION:2.0
PRODID:-//LA South REIA - ECPv6.15.15//NONSGML v1.0//EN
CALSCALE:GREGORIAN
METHOD:PUBLISH
X-WR-CALNAME:LA South REIA
X-ORIGINAL-URL:https://lasouthreia.com
X-WR-CALDESC:Events for LA South REIA
REFRESH-INTERVAL;VALUE=DURATION:PT1H
X-Robots-Tag:noindex
X-PUBLISHED-TTL:PT1H
BEGIN:VTIMEZONE
TZID:America/Los_Angeles
BEGIN:DAYLIGHT
TZOFFSETFROM:-0800
TZOFFSETTO:-0700
TZNAME:PDT
DTSTART:20220313T100000
END:DAYLIGHT
BEGIN:STANDARD
TZOFFSETFROM:-0700
TZOFFSETTO:-0800
TZNAME:PST
DTSTART:20221106T090000
END:STANDARD
BEGIN:DAYLIGHT
TZOFFSETFROM:-0800
TZOFFSETTO:-0700
TZNAME:PDT
DTSTART:20230312T100000
END:DAYLIGHT
BEGIN:STANDARD
TZOFFSETFROM:-0700
TZOFFSETTO:-0800
TZNAME:PST
DTSTART:20231105T090000
END:STANDARD
BEGIN:DAYLIGHT
TZOFFSETFROM:-0800
TZOFFSETTO:-0700
TZNAME:PDT
DTSTART:20240310T100000
END:DAYLIGHT
BEGIN:STANDARD
TZOFFSETFROM:-0700
TZOFFSETTO:-0800
TZNAME:PST
DTSTART:20241103T090000
END:STANDARD
END:VTIMEZONE
BEGIN:VTIMEZONE
TZID:UTC
BEGIN:STANDARD
TZOFFSETFROM:+0000
TZOFFSETTO:+0000
TZNAME:UTC
DTSTART:20150101T000000
END:STANDARD
END:VTIMEZONE
BEGIN:VEVENT
DTSTART;TZID=America/Los_Angeles:20231015T100000
DTEND;TZID=America/Los_Angeles:20231015T110000
DTSTAMP:20260423T193127
CREATED:20231011T232410Z
LAST-MODIFIED:20231011T232410Z
UID:21873-1697364000-1697367600@lasouthreia.com
SUMMARY:Fix & Flip Project Tour: Torrance
DESCRIPTION:PRE-PROJECT REHAB TOUR\nYou are invited to Lisa Hoegler’s latest project tour in Torrance. This project is a single-family that will be completely renovated top to bottom!\nJoin us for a walk-through of the property after one week of rehab and learn why she purchased it\, what she plans to do with it\, and why her investors are soooo excited about it.\nGet a front-row seat to this project and watch the progress in real time. \nRSVP Required. All investors welcome.\nThis event is free.
URL:https://lasouthreia.com/event/fix-flip-project-tour-torrance/
LOCATION:4280 Emerald St\, Torrance\, 4820 Emerald St\, Torrance\, CA\, 90503
CATEGORIES:Future Events,Main Event,On-Site Tours
ATTACH;FMTTYPE=image/jpeg:https://lasouthreia.com/wp-content/uploads/Emerald-2.jpeg
ORGANIZER;CN="LA South REIA":MAILTO:info@www.lasouthreia.com
END:VEVENT
BEGIN:VEVENT
DTSTART;TZID=America/Los_Angeles:20230415T090000
DTEND;TZID=America/Los_Angeles:20230415T110000
DTSTAMP:20260423T193127
CREATED:20230207T034448Z
LAST-MODIFIED:20230405T234421Z
UID:21157-1681549200-1681556400@lasouthreia.com
SUMMARY:Fix & Flip Pre-Project Onsite Tour: Marina Del Rey
DESCRIPTION:PRE-PROJECT REHAB TOUR\nYou are invited to Lisa Hoegler’s latest project tour in Marina Del Rey. This project is a single-family that will be completely renovated top to bottom!\nJoin us for a walk-through of the property “BEFORE” and learn why she purchased it\, what she plans to do with it\, and why her investors are soooo excited about it. Get a front-row seat to this project and watch the progress in real time. \nRSVP Required. All investors welcome.\nThis event is free.
URL:https://lasouthreia.com/event/pre-project-onsite-tour-mdr/
LOCATION:4251 Lyceum Ave\, Los Angleles\, 4251 Lyceum Ave\, Los Angeles\, 90066
CATEGORIES:Main Event,On-Site Tours
ATTACH;FMTTYPE=image/png:https://lasouthreia.com/wp-content/uploads/Marina-1.png
ORGANIZER;CN="LA South REIA":MAILTO:info@www.lasouthreia.com
END:VEVENT
BEGIN:VEVENT
DTSTART;TZID=America/Los_Angeles:20230103T120000
DTEND;TZID=America/Los_Angeles:20230103T140000
DTSTAMP:20260423T193127
CREATED:20221222T001239Z
LAST-MODIFIED:20221222T001533Z
UID:21064-1672747200-1672754400@lasouthreia.com
SUMMARY:Rehab Project Tour: Lisa Hoegler's Latest Flip
DESCRIPTION:OPEN HOUSE & PROJECT REHAB TOUR\nYou are invited to Lisa’s latest rehab project tour in Buena Park. Join us to see some incredible before and after\, plus learn the story behind the property. Go behind the scenes to learn about the calcualted decisions made due to the changing market and the strategies used to keep this project profitable. Come to learn which decisions paid off and which ones did not. \nIf you are interested in rehabbing during a changing market\, make the drive to Buena Park! All are welcome – no ticket needed.
URL:https://lasouthreia.com/event/rehab-project-tour-lisa-hoeglers-latest-flip/
LOCATION:7924 La Fiesta Dr\, Buena Park\, 7924 La Fiesta Dr.\, Buena Park\, CA\, 90620
CATEGORIES:Main Event,On-Site Tours,Subgroups
ATTACH;FMTTYPE=image/png:https://lasouthreia.com/wp-content/uploads/OH-2.png
ORGANIZER;CN="LA South REIA":MAILTO:info@www.lasouthreia.com
END:VEVENT
BEGIN:VEVENT
DTSTART;TZID=UTC:20171012T120000
DTEND;TZID=UTC:20171012T133000
DTSTAMP:20260423T193127
CREATED:20171010T110116Z
LAST-MODIFIED:20171010T182252Z
UID:5944-1507809600-1507815000@lasouthreia.com
SUMMARY:Learn on Site: Carson
DESCRIPTION:Join property owner Kerwin Session at this Carson acquisition. This property is located at 20008 Midtown Ave\, Carson. Kerwin will walk you through the property\, discussing plans for the rehab\, the acquisition strategy\, the project plan and timeline\, and the budget. This project has not yet begun\, so it’s a great chance to see the beginning stages of a rehab.\n\nWalk-through begins promptly at 12:00. Lunch to be provided following tour.\n$15 for members. Pre-registration is required.\n\nClosed-toe shoes required. \nJOIN US
URL:https://lasouthreia.com/event/learn-on-site-carson/
LOCATION:Project Job Site: 20008 Midtown Ave\, 20008 Midtown Ave\, Carsoen\, CA\, 90746\, United States
CATEGORIES:On-Site Tours
ATTACH;FMTTYPE=image/png:https://lasouthreia.com/wp-content/uploads/2016/09/1818-235th-st.png
ORGANIZER;CN="LA South REIA":MAILTO:info@www.lasouthreia.com
END:VEVENT
BEGIN:VEVENT
DTSTART;TZID=UTC:20170125T233000
DTEND;TZID=UTC:20170125T233000
DTSTAMP:20260423T193127
CREATED:20170109T135453Z
LAST-MODIFIED:20170131T013810Z
UID:1388-1485387000-1485387000@lasouthreia.com
SUMMARY:Learn on Site: Long Beach - Progress Update
DESCRIPTION:MEMBERS ONLY\n*** This is an open-house drop-in only. This is a follow-up to the initial tour. ***\n\nJoin property owner & Rehab Subgroup Leader\, Jon Garnett\, at his latest acquisition. This property is located at 1865 Ashbrook Ave\, in Long Beach. Jon will walk us through the property\, discussing his plans for the rehab\, the acquisition strategy\, the project plan and timeline\, and the budget.  This project features an addition of a master suite.\n\n Pre-registration is required.  MEMBERS ONLY\nClosed-toe shoes required.\n\n\nJOIN US
URL:https://lasouthreia.com/event/learn-on-site-long-beach/
LOCATION:Project Job Site: 20008 Midtown Ave\, 20008 Midtown Ave\, Carsoen\, CA\, 90746\, United States
CATEGORIES:On-Site Tours
ATTACH;FMTTYPE=image/png:https://lasouthreia.com/wp-content/uploads/2017/01/57a8b220582bathumbnail.png
ORGANIZER;CN="LA South REIA":MAILTO:info@www.lasouthreia.com
END:VEVENT
BEGIN:VEVENT
DTSTART;TZID=UTC:20160915T120000
DTEND;TZID=UTC:20160915T133000
DTSTAMP:20260423T193127
CREATED:20160907T113440Z
LAST-MODIFIED:20160907T113548Z
UID:1052-1473940800-1473946200@lasouthreia.com
SUMMARY:Learn on Site: Torrance
DESCRIPTION:Join property owner Bill Dwyer and mentor\, Lisa Hoegler\, at this Torrance acquisition. This property is located at 1818 W. 235th St\, in Torrance. Lisa & Bill will walk you through the property\, discussing plans for the rehab\, the acquisition strategy\, the project plan and timeline\, and the budget.\n\nWalk-through begins promptly at 12:00. Lunch to be provided following tour.\n$10 for members. Pre-registration is required.\n\nClosed-toe shoes required. \nJOIN US
URL:https://lasouthreia.com/event/learn-on-site-torrance/
LOCATION:Project Job Site: 20008 Midtown Ave\, 20008 Midtown Ave\, Carsoen\, CA\, 90746\, United States
CATEGORIES:On-Site Tours
ATTACH;FMTTYPE=image/png:https://lasouthreia.com/wp-content/uploads/2016/09/1818-235th-st.png
ORGANIZER;CN="LA South REIA":MAILTO:info@www.lasouthreia.com
END:VEVENT
END:VCALENDAR