BEGIN:VCALENDAR
VERSION:2.0
PRODID:-//LA South REIA - ECPv6.15.15//NONSGML v1.0//EN
CALSCALE:GREGORIAN
METHOD:PUBLISH
X-ORIGINAL-URL:https://lasouthreia.com
X-WR-CALDESC:Events for LA South REIA
REFRESH-INTERVAL;VALUE=DURATION:PT1H
X-Robots-Tag:noindex
X-PUBLISHED-TTL:PT1H
BEGIN:VTIMEZONE
TZID:America/Los_Angeles
BEGIN:DAYLIGHT
TZOFFSETFROM:-0800
TZOFFSETTO:-0700
TZNAME:PDT
DTSTART:20180311T100000
END:DAYLIGHT
BEGIN:STANDARD
TZOFFSETFROM:-0700
TZOFFSETTO:-0800
TZNAME:PST
DTSTART:20181104T090000
END:STANDARD
BEGIN:DAYLIGHT
TZOFFSETFROM:-0800
TZOFFSETTO:-0700
TZNAME:PDT
DTSTART:20190310T100000
END:DAYLIGHT
BEGIN:STANDARD
TZOFFSETFROM:-0700
TZOFFSETTO:-0800
TZNAME:PST
DTSTART:20191103T090000
END:STANDARD
BEGIN:DAYLIGHT
TZOFFSETFROM:-0800
TZOFFSETTO:-0700
TZNAME:PDT
DTSTART:20200308T100000
END:DAYLIGHT
BEGIN:STANDARD
TZOFFSETFROM:-0700
TZOFFSETTO:-0800
TZNAME:PST
DTSTART:20201101T090000
END:STANDARD
END:VTIMEZONE
BEGIN:VTIMEZONE
TZID:UTC
BEGIN:STANDARD
TZOFFSETFROM:+0000
TZOFFSETTO:+0000
TZNAME:UTC
DTSTART:20150101T000000
END:STANDARD
END:VTIMEZONE
BEGIN:VEVENT
DTSTART;TZID=America/Los_Angeles:20190919T190000
DTEND;TZID=America/Los_Angeles:20190919T210000
DTSTAMP:20260424T020852
CREATED:20190915T210043Z
LAST-MODIFIED:20190915T212200Z
UID:14847-1568919600-1568926800@lasouthreia.com
SUMMARY:NEW MEMBER AND GUEST ORIENTATION 9-19
DESCRIPTION:If you have been a GUEST\nor even a NEW MEMBER\nof\nLA South REIA\,\nyou may be wondering…\n“What are all the benefits???”\n\n\nIf you have RECENTLY JOINED\nLA South REIA\,\nyou may be wondering…\n“NOW WHAT???”\n\n\n\nFIND OUT THURSDAY NIGHT.\nJoin us for our\nNEW MEMBER ORIENTATION.\n\n\n\nThe New Member Orientation will be full of useful information\nabout the best ways to take total advantage of\nALL THE BENEFITS OF MEMBERSHIP.\nWe will give a full comprehensive presentation\nof everything you will want to know and also\nopen the floor for a Q&A session.\n\n\n\nSo Join Us This Week\nTHURSDAY NIGHT SEPT 19\, 7pm-9pm\nat COWORK SOUTHBAY\n22519 Hawthorne Blvd\, Torrance\, CA 90505\n\n\nGUESTS ARE WELCOME TO COME FOR FREE!!!\n\nFOR NEW MEMBERS: \nPLEASE REMEMBER TO BRING YOUR \nNEW MEMBER PACKETS \nYOU RECEIVED AT YOUR FIRST MAIN EVENT.
URL:https://lasouthreia.com/event/new-member-and-guest-orientation-9-19/
LOCATION:CoWork SouthBay\, 22519 Hawthorne Blvd\, Torrance\, CA\, 90505\, United States
CATEGORIES:Future Events,New Member Orientation,Subgroups
ATTACH;FMTTYPE=image/jpeg:https://lasouthreia.com/wp-content/uploads/Woman-asking-question.jpg
ORGANIZER;CN="LA South REIA":MAILTO:info@www.lasouthreia.com
END:VEVENT
BEGIN:VEVENT
DTSTART;TZID=America/Los_Angeles:20190522T190000
DTEND;TZID=America/Los_Angeles:20190522T210000
DTSTAMP:20260424T020852
CREATED:20190521T220545Z
LAST-MODIFIED:20190521T221107Z
UID:13932-1558551600-1558558800@lasouthreia.com
SUMMARY:NEW MEMBER AND GUEST ORIENTATION 5-22
DESCRIPTION:If you have been a GUEST\nor even a NEW MEMBER\nof\nLA South REIA\,\nyou may be wondering…\n“What are all the benefits???”\n\n\nIf you have RECENTLY JOINED\nLA South REIA\,\nyou may be wondering…\n“NOW WHAT???”\n\n\n\nFIND OUT THURSDAY NIGHT.\nJoin us for our\nNEW MEMBER ORIENTATION.\n\n\n\nThe New Member Orientation will be full of useful information\nabout the best ways to take total advantage of\nALL THE BENEFITS OF MEMBERSHIP.\nWe will give a full comprehensive presentation\nof everything you will want to know and also\nopen the floor for a Q&A session.\n\n\n\nSo Join Us This Week\nWEDNESDAY NIGHT MAY 22\, 7pm-9pm\nat COWORK SOUTHBAY\n22519 Hawthorne Blvd\, Torrance\, CA 90505\n\n\nGUESTS ARE WELCOME TO COME FOR FREE!!!
URL:https://lasouthreia.com/event/new-member-and-guest-orientation-5-22/
LOCATION:CA
CATEGORIES:Future Events,New Member Orientation,Subgroups
ATTACH;FMTTYPE=image/jpeg:https://lasouthreia.com/wp-content/uploads/Woman-asking-question.jpg
END:VEVENT
BEGIN:VEVENT
DTSTART;TZID=UTC:20170112T190000
DTEND;TZID=UTC:20170112T210000
DTSTAMP:20260424T020852
CREATED:20170109T134720Z
LAST-MODIFIED:20170131T013948Z
UID:1383-1484247600-1484254800@lasouthreia.com
SUMMARY:New Member Orientation & Information Session
DESCRIPTION:Come learn about membership with LA South REIA. Plus\, how to maximize your membership with LA South REIA and get started with real estate investing.\n\nLearn:\n\n\nHow to optimize your member benefits\nWhere to find local resources that will help you build your team\nHow to get the education you need based on your experience and interest\nThe fastest way to begin your investing career\n\n7-7:30pm: LA South REIA membership information session (for those inquiring about membership)\n\n7:30-9pm: New Member Orientation\n\n\n\nJOIN US
URL:https://lasouthreia.com/event/new-member-orientation-2017-01/
LOCATION:CoWork SouthBay\, 22519 Hawthorne Blvd\, Torrance\, CA\, 90505\, United States
CATEGORIES:New Member Orientation
ATTACH;FMTTYPE=image/png:https://lasouthreia.com/wp-content/uploads/2016/06/allstarmember.png
ORGANIZER;CN="LA South REIA":MAILTO:info@www.lasouthreia.com
END:VEVENT
BEGIN:VEVENT
DTSTART;TZID=UTC:20160601T190000
DTEND;TZID=UTC:20160601T210000
DTSTAMP:20260424T020852
CREATED:20160606T080715Z
LAST-MODIFIED:20160606T080715Z
UID:695-1464807600-1464814800@lasouthreia.com
SUMMARY:New Member Orientation
DESCRIPTION:Come learn how to maximize your membership with LA South REIA\nand get started with real estate investing.\nLearn:\n\n\nHow to optimize your member benefits\nWhere to find local resources that will help you build your team\nHow to get the education you need based on your experience and interest\nThe fastest way to begin your investing career
URL:https://lasouthreia.com/event/new-member-orientation/
LOCATION:CoWork SouthBay\, 22519 Hawthorne Blvd\, Torrance\, CA\, 90505\, United States
CATEGORIES:New Member Orientation
ATTACH;FMTTYPE=image/png:https://lasouthreia.com/wp-content/uploads/2016/06/allstarmember.png
ORGANIZER;CN="LA South REIA":MAILTO:info@www.lasouthreia.com
END:VEVENT
END:VCALENDAR