BEGIN:VCALENDAR
VERSION:2.0
PRODID:-//LA South REIA - ECPv6.15.15//NONSGML v1.0//EN
CALSCALE:GREGORIAN
METHOD:PUBLISH
X-WR-CALNAME:LA South REIA
X-ORIGINAL-URL:https://lasouthreia.com
X-WR-CALDESC:Events for LA South REIA
REFRESH-INTERVAL;VALUE=DURATION:PT1H
X-Robots-Tag:noindex
X-PUBLISHED-TTL:PT1H
BEGIN:VTIMEZONE
TZID:UTC
BEGIN:STANDARD
TZOFFSETFROM:+0000
TZOFFSETTO:+0000
TZNAME:UTC
DTSTART:20150101T000000
END:STANDARD
END:VTIMEZONE
BEGIN:VEVENT
DTSTART;TZID=UTC:20170508T183000
DTEND;TZID=UTC:20170508T211500
DTSTAMP:20260424T180807
CREATED:20170410T084408Z
LAST-MODIFIED:20170410T154730Z
UID:2257-1494268200-1494278100@lasouthreia.com
SUMMARY:Main Event: Short-Term Rentals; Long-Term Profits
DESCRIPTION:RSVP today!\nFree for members of LA South REIA\, $25 for pre-registered non-members. $30 at the door. \n\nJOIN US \n 
URL:https://lasouthreia.com/event/short-term-rentals/
LOCATION:DoubleTree by Hilton Torrance\, 21333 Hawthorne Blvd\, Torrance\, CA\, 90503\, United States
CATEGORIES:Main Event
ATTACH;FMTTYPE=image/png:https://lasouthreia.com/wp-content/uploads/2017/04/thumbnail-vx0jqD-2.png
ORGANIZER;CN="LA South REIA":MAILTO:info@www.lasouthreia.com
END:VEVENT
BEGIN:VEVENT
DTSTART;TZID=UTC:20170410T183000
DTEND;TZID=UTC:20170410T211500
DTSTAMP:20260424T180807
CREATED:20170315T130156Z
LAST-MODIFIED:20170405T184336Z
UID:1718-1491849000-1491858900@lasouthreia.com
SUMMARY:Main Event: California's Favorite Investor\, Bruce Norris
DESCRIPTION:What is the CA real estate investing market doing? \nFind out what the most-watched expert thinks at the April Main Event!\n\nBruce Norris is a real estate veteran with over 30 years in the business and well over 2\,000 real estate transactions under his belt as an investor\, builder\, and hard money lender. He’s also helped educate thousands of investors all over California how to be successful in the business. \nLA South REIA is proud to welcome Bruce this month to share his thoughts on where the market is heading right now and share stories that have shaped his lengthy career. \nBruce will share:\n– Secrets to getting started AND how to stay in the business\n– How to conquer fear as an investing entrepreneur\n– How you can achieve unthinkable goals\n– How to predict the FUTURE in real estate\n– How intuition and doing the right thing can help those in distress \nRSVP to see California’s Favorite Investor!\nFree for members of LA South REIA\, $25 for pre-registered non-members. $30 at the door. \n\nJOIN US \n 
URL:https://lasouthreia.com/event/bruce-norris/
LOCATION:DoubleTree by Hilton Torrance\, 21333 Hawthorne Blvd\, Torrance\, CA\, 90503\, United States
CATEGORIES:Main Event
ATTACH;FMTTYPE=image/png:https://lasouthreia.com/wp-content/uploads/2017/03/NORRIS-TICKET.png
ORGANIZER;CN="LA South REIA":MAILTO:info@www.lasouthreia.com
END:VEVENT
BEGIN:VEVENT
DTSTART;TZID=UTC:20170313T183000
DTEND;TZID=UTC:20170313T211500
DTSTAMP:20260424T180807
CREATED:20170214T113935Z
LAST-MODIFIED:20170308T183109Z
UID:1526-1489429800-1489439700@lasouthreia.com
SUMMARY:Main Event: Low-Capital Acquisition with Pete Fortunato
DESCRIPTION:Want to TRIPLE the number of tools at your disposal to help motivated sellers?\nWish you had more creative solutions to land more deals? \nLA South REIA is honored to host INVESTING LEGEND and MASTER EDUCATOR\, Pete Fortunato. There are few names in our industry responsible for single-handedly creating hundreds of MILLIONAIRES – and Pete is one. \nYour mission (should you choose to accept it) is to come learn from one of the brightest investing minds in America! On March 13th\, Pete will focus on CREATIVE ACQUISTION STRATEGIES and how to use as little capital as possible in your pursuit of real estate. \nA chance like this may not happen again\, so take advantage of it while you can! Do not miss this opportunity to meet and learn from this legend. \n\nFree for members of LA South REIA\, $25 for pre-registered non-members. $30 at the door.\nRSVP TODAY! \nJOIN US
URL:https://lasouthreia.com/event/acquisition_fortunato/
LOCATION:DoubleTree by Hilton Torrance\, 21333 Hawthorne Blvd\, Torrance\, CA\, 90503\, United States
CATEGORIES:Main Event
ATTACH;FMTTYPE=image/png:https://lasouthreia.com/wp-content/uploads/2017/02/FORT-tICKET.png
ORGANIZER;CN="LA South REIA":MAILTO:info@www.lasouthreia.com
END:VEVENT
BEGIN:VEVENT
DTSTART;TZID=UTC:20170213T183000
DTEND;TZID=UTC:20170213T211500
DTSTAMP:20260424T180807
CREATED:20160907T040912Z
LAST-MODIFIED:20170110T231147Z
UID:1031-1487010600-1487020500@lasouthreia.com
SUMMARY:Main Event: Control 2 Profit with Lease Options
DESCRIPTION:Free for members of LA South REIA\, $25 for pre-registered non-members. $30 at the door.\nRSVP TODAY! \nJOIN US
URL:https://lasouthreia.com/event/control-2-profit-lease-options-aydelotte/
LOCATION:DoubleTree by Hilton Torrance\, 21333 Hawthorne Blvd\, Torrance\, CA\, 90503\, United States
CATEGORIES:Main Event
ATTACH;FMTTYPE=image/png:https://lasouthreia.com/wp-content/uploads/2017/01/Adel-Ticket.png
ORGANIZER;CN="LA South REIA":MAILTO:info@www.lasouthreia.com
END:VEVENT
BEGIN:VEVENT
DTSTART;TZID=UTC:20170109T183000
DTEND;TZID=UTC:20170109T211500
DTSTAMP:20260424T180807
CREATED:20161216T142128Z
LAST-MODIFIED:20170104T211652Z
UID:1343-1483986600-1483996500@lasouthreia.com
SUMMARY:Main Event: Build Your Own Capital-Raising Engine
DESCRIPTION:If your New Year’s Resolutions include making more money\, you’ll need more deals and more lenders! \nJoin us at the January Main Event to learn all about raising unlimited capital through the exciting space of crowdfunding. Expert syndicator and founder of Bullseye Capital\, Joel Block\, will pull back the curtain on the rich world of real estate investment crowdfunding and show you how to grab your share! \nMany investors have not ventured into the crowdfunding space because it is still new\, evolving\, and confusing. After Joel’s presentation\, you will:\n> Be clear on how crowdfunding work for investments\n> Know which crowdfunding strategy works best – and when to use it\n> Learn how to keep your cost of capital down\n> Find out how to tap into the multi-billions controlled by Wealth Managers\n> Learn how to eliminate fees when using SDIRA funds \nJump into crowdfunding and take your business to a whole new level in 2017! \nFree for paid members of LA South REIA\, $30 for guests. Preregister to save $5.\nJOIN US
URL:https://lasouthreia.com/event/create-your-own-capital-raising-engine-with-crowd-funding/
LOCATION:DoubleTree by Hilton Torrance\, 21333 Hawthorne Blvd\, Torrance\, CA\, 90503\, United States
CATEGORIES:Main Event
ATTACH;FMTTYPE=image/jpeg:https://lasouthreia.com/wp-content/uploads/2016/12/tix_owncapital.jpg
ORGANIZER;CN="LA South REIA":MAILTO:info@www.lasouthreia.com
END:VEVENT
BEGIN:VEVENT
DTSTART;TZID=UTC:20161212T183000
DTEND;TZID=UTC:20161212T211500
DTSTAMP:20260424T180807
CREATED:20160907T041016Z
LAST-MODIFIED:20161207T111925Z
UID:1034-1481567400-1481577300@lasouthreia.com
SUMMARY:Main Event: Top Market Trends for 2017
DESCRIPTION:  \nLA South REIA ends the year with a bang! \nAs we say goodbye to 2016\, we look ahead to some INCREDIBLE investing opportunities in 2017. Stay ahead of the curve and informed to position yourself for the BEST INVESTING YEAR EVER. \nJoin veteran investor and owner of County Records Research\, Kurt DeMeire\, at the December Main Event for a data interactive into the Top Market Trends for 2017. Not only will Kurt tell us what to watch out for\, but he will show us how to spot opportunity like a pro! \nDive into these Top Trends for 2017 and learn how to profit from: \n• The rise of reverse mortgage foreclosures: Spot them\, profit from them\n• The end of the line for long-term defaulters: Banks return to business as usual\n• The growing wave of new foreclosures: Equity-rich\, but in default\n• Distressed property and note inventory ahead: Hedge funds and lenders look to liquidate\n• Stockpile cash: Buying opportunities ahead \nFree for paid members of LA South REIA\, $30 for guests. Preregister to save $5. \nJOIN US
URL:https://lasouthreia.com/event/october-main-event-2016-12/
LOCATION:DoubleTree by Hilton Torrance\, 21333 Hawthorne Blvd\, Torrance\, CA\, 90503\, United States
CATEGORIES:Main Event
ATTACH;FMTTYPE=image/jpeg:https://lasouthreia.com/wp-content/uploads/2016/11/tix-topMarketTrends2017.jpg
ORGANIZER;CN="LA South REIA":MAILTO:info@www.lasouthreia.com
END:VEVENT
BEGIN:VEVENT
DTSTART;TZID=UTC:20161207T180000
DTEND;TZID=UTC:20161208T220000
DTSTAMP:20260424T180807
CREATED:20161121T202756Z
LAST-MODIFIED:20161203T024203Z
UID:1290-1481133600-1481234400@lasouthreia.com
SUMMARY:Wholesaling Workshop
DESCRIPTION:Revolution Flip presents: \nArt of Wholesaling Workshop\n\n\nReady to make some quick cash in real estate? Join us to learn how the best wholesalers GET IN\, GET OUT\, and GET PAID in this business!\nYou will learn:\n\nHow to identify distress and find deals first\nHow to market to fill your pipeline every month\nHow to have others bring you more juicy deals\nHow to make >$10\,000/deal through expert negotiation\nHow to build your buyer’s list and get your property sold in minutes\nHow to handle the paperwork\, docs\, and contracts of a wholesale\n\n 8 FULL Hours: Nov 30 & Dec 1   RESCHEDULED to December 7&8\, 6-10PM\nJOIN US
URL:https://lasouthreia.com/event/art_of_wholesale/
LOCATION:CoWork SouthBay\, 22519 Hawthorne Blvd\, Torrance\, CA\, 90505\, United States
CATEGORIES:Main Event,Revolution Flip,Workshops
ATTACH;FMTTYPE=image/jpeg:https://lasouthreia.com/wp-content/uploads/2016/12/tix-wholesale.jpg
ORGANIZER;CN="LA South REIA":MAILTO:info@www.lasouthreia.com
END:VEVENT
BEGIN:VEVENT
DTSTART;TZID=UTC:20161114T183000
DTEND;TZID=UTC:20161114T211500
DTSTAMP:20260424T180807
CREATED:20170110T103421Z
LAST-MODIFIED:20170110T103421Z
UID:1402-1479148200-1479158100@lasouthreia.com
SUMMARY:November Main Event: Low-Cash\, High Return Deals Copy
DESCRIPTION:Deals that make sense are very hard to find right now.  \nPrices are increasing and buyers are still being very selective and cautious. \n\nJoin us this month as veteran investor and entrepreneur\,  Andy Teasley\, shares how to make HUGE returns in the incredibly-lucrative mobile home niche. With over 20 years of investing experience\, Andy can consistently generate yields of over 35% and will show you more about LOW CASH -HIGH RETURN deals available right here in Southern California.\n\nTopics will include:\n• How to find and flip property when your have very little cash.\n• How to create notes that generate a 40-60% yield.\n• How to double your investment funds in 60-90 days.\n• Why you should stop fishing in a pool full of others’ poles\n• How to use your IRA contribution to grow a tax-free retirement\n\nFree for members of LA South REIA\, $25 for pre-registered non-members. $30 at the door.\nRSVP TODAY! \nJOIN US
URL:https://lasouthreia.com/event/november-main-event-2016-11-copy/
LOCATION:DoubleTree by Hilton Torrance\, 21333 Hawthorne Blvd\, Torrance\, CA\, 90503\, United States
CATEGORIES:Main Event
ATTACH;FMTTYPE=image/jpeg:https://lasouthreia.com/wp-content/uploads/2016/10/tix-highreturn.jpg
ORGANIZER;CN="LA South REIA":MAILTO:info@www.lasouthreia.com
END:VEVENT
BEGIN:VEVENT
DTSTART;TZID=UTC:20160912T183000
DTEND;TZID=UTC:20160912T211500
DTSTAMP:20260424T180807
CREATED:20160819T090800Z
LAST-MODIFIED:20160912T105211Z
UID:838-1473705000-1473714900@lasouthreia.com
SUMMARY:Raising Private Capital
DESCRIPTION:You’ve figured out how to find the deal\, now you have to figure out how to FUND it. \nAs investors\, our ability to raise private capital is critical to the expansion of our business AND often the key to investing profitability. Yet\, most investors are SCARED to use O.P.M. because the simply don’t know how to ask for it. \nInvestor and coach\, J Massey\, returns to LA South REIA in September to share with you the strategies that worked for him when he raised his FIRST $ and the strategies that continue to work now that he has raised MILLIONS. \nRSVP today to learn: \n\nHow to prepare your private lending pitch\nWhere to go to meet and connect with lenders\nWhat to say to lenders once you meet them\nHow to make your lenders so happy\, their investment doubles on your next deal\n\nStop letting lack of money be your excuse. Money is ALL AROUND us in Southern California. Join us in September to learn how to real in your first $100K in under 60 days! \nJOIN US
URL:https://lasouthreia.com/event/raising-private-capital/
LOCATION:DoubleTree by Hilton Torrance\, 21333 Hawthorne Blvd\, Torrance\, CA\, 90503\, United States
CATEGORIES:Main Event
ATTACH;FMTTYPE=image/jpeg:https://lasouthreia.com/wp-content/uploads/2016/08/privatecapital.jpg
ORGANIZER;CN="LA South REIA":MAILTO:info@www.lasouthreia.com
END:VEVENT
END:VCALENDAR