BEGIN:VCALENDAR
VERSION:2.0
PRODID:-//LA South REIA - ECPv6.15.15//NONSGML v1.0//EN
CALSCALE:GREGORIAN
METHOD:PUBLISH
X-ORIGINAL-URL:https://lasouthreia.com
X-WR-CALDESC:Events for LA South REIA
REFRESH-INTERVAL;VALUE=DURATION:PT1H
X-Robots-Tag:noindex
X-PUBLISHED-TTL:PT1H
BEGIN:VTIMEZONE
TZID:UTC
BEGIN:STANDARD
TZOFFSETFROM:+0000
TZOFFSETTO:+0000
TZNAME:UTC
DTSTART:20150101T000000
END:STANDARD
END:VTIMEZONE
BEGIN:VEVENT
DTSTART;TZID=UTC:20180108T183000
DTEND;TZID=UTC:20180108T211500
DTSTAMP:20260424T162834
CREATED:20180102T165914Z
LAST-MODIFIED:20180106T235037Z
UID:6130-1515436200-1515446100@lasouthreia.com
SUMMARY:Main Event: Top 10 Ways to CRUSH IT in 2018!
DESCRIPTION:Ready to crush it in 2018?\nReady to blaze through to your goals\, fast\, and easier than ever?\n\nThere may be new tax rules\, different regulations\, a shift in where the best returns are\, and\nconsumer tastes. Yet\, Sensei Gilliland insists this market is PRIME for generating cash and\nwealth through real estate. It’s all about how you do it. \nJoin us at the January Main Event to hear from one of the real estate industry’s real leaders\, and a 20 year investing veteran who has proven his strategies and tactics through all types of market cycles. \nCome discover the 10 real estate profit centers for 2018!\n\nLearn about:\n \n\nOptions – how to wield leverage and control more property\n\nAuctions – buying big\, without a big budget\n\nWholesaling – the art of the double close\, and flipping without the risk\n\nPre-foreclosures – where to find them now\, and how to negotiate\n\nREOs – getting deep discounts on deals most investors don’t know exist\n\nRehabbing – renovating distressed properties\, and how to rehab at a distance\n\nPlus lots more!\n\n\nWhether you are determined to get started in real estate investing this year\, want to double what\nyou did over the last year\, or know you need some new game plans to maintain your gains – this\nis for you. \nJoin us\, and find out how truly successful investors are making their money\, and what they are\ndoing differently for 2018. \n\nJOIN US \n 
URL:https://lasouthreia.com/event/2018-crush-it/
LOCATION:DoubleTree by Hilton Torrance\, 21333 Hawthorne Blvd\, Torrance\, CA\, 90503\, United States
CATEGORIES:Main Event
ATTACH;FMTTYPE=image/png:https://lasouthreia.com/wp-content/uploads/2018/01/Crush-It.png
ORGANIZER;CN="LA South REIA":MAILTO:info@www.lasouthreia.com
END:VEVENT
BEGIN:VEVENT
DTSTART;TZID=UTC:20171211T183000
DTEND;TZID=UTC:20171211T211500
DTSTAMP:20260424T162834
CREATED:20171113T095003Z
LAST-MODIFIED:20171113T175259Z
UID:6071-1513017000-1513026900@lasouthreia.com
SUMMARY:Main Event: Year End Celebration & Ugly Sweater Party
DESCRIPTION: We’re wrapping up 2017 with a bang! Join us for the December Main Event for highlights including: \n\nA panel discussion from our Leadership team discussing trends and expectations for 2018\nThe reveal of the 1st annual “Take Action 2017” award winner\nOur 1st annual Ugly Sweater Contest – with prizes\nOur annual door-prize palooza\n…And so much more!\n\nWe can’t wait to celebrate with you! Join us! \n\nJOIN US \n 
URL:https://lasouthreia.com/event/2017-year-end/
LOCATION:DoubleTree by Hilton Torrance\, 21333 Hawthorne Blvd\, Torrance\, CA\, 90503\, United States
CATEGORIES:Main Event
ATTACH;FMTTYPE=image/png:https://lasouthreia.com/wp-content/uploads/2017/11/Ugly-sweater.png
ORGANIZER;CN="LA South REIA":MAILTO:info@www.lasouthreia.com
END:VEVENT
BEGIN:VEVENT
DTSTART;TZID=UTC:20171113T183000
DTEND;TZID=UTC:20171113T211500
DTSTAMP:20260424T162834
CREATED:20171010T105112Z
LAST-MODIFIED:20171010T175504Z
UID:5939-1510597800-1510607700@lasouthreia.com
SUMMARY:Main Event: Tech Trends & the Effect on Real Estate
DESCRIPTION: Have words like Artificial Intelligence\, the Internet of Things\, and the Gig Economy been popping up in your news feed and you’re completely unclear on what they mean for your business — or what they mean for real estate? Don’t worry\, you’re not alone! \nTechnological advances have been speedier and major companies are vying to be first to garner your attention and loyalty\, not to mention your hard-earned dollars. Join Aaron Norris as he simplifies some of the biggest technology trends and specifically breaks it down on what these advances could mean for real estate and the economy as he covers: \n\n7 Factors Driving Massive Technology Progress\n\nThe 5 Major Brands to Watch\n\nThe 8 Major Technology Sectors to Watch and Their Potential Ramifications For the Real Estate Market\n\nHow Technology is Changing The Way We Look at How Homes Are Built\n\nDetails on a Cool\, New Project that Might Inspire Your Next Big Real Estate Deal\n\nDon’t miss this chance to learn how investors and consumers alike are using technology as their competitive edge in real estate! \nJOIN US \n 
URL:https://lasouthreia.com/event/tech-trends-aaron-norris/
LOCATION:DoubleTree by Hilton Torrance\, 21333 Hawthorne Blvd\, Torrance\, CA\, 90503\, United States
CATEGORIES:Main Event
ATTACH;FMTTYPE=image/jpeg:https://lasouthreia.com/wp-content/uploads/2017/10/Norris-Ad.jpg
ORGANIZER;CN="LA South REIA":MAILTO:info@www.lasouthreia.com
END:VEVENT
BEGIN:VEVENT
DTSTART;TZID=UTC:20171009T183000
DTEND;TZID=UTC:20171009T211500
DTSTAMP:20260424T162834
CREATED:20170915T064203Z
LAST-MODIFIED:20171004T220221Z
UID:5902-1507573800-1507583700@lasouthreia.com
SUMMARY:Main Event: Join the 1% - Structure Deals like the Top Investors on the Planet
DESCRIPTION: Join the 1%: How to Structure Deals for PASSIVE Wealth Like The Top 1% of Investors with George AntoneFast cash from flipping properties is swell\, but isn’t the REAL goal to generate passive income in amounts big enough to support your family for your life and beyond; without you working all the time? \nThat’s some seriously ambitious thinking\, but this month’s expert is a master at teaching normal folks how to think like the very wealthy and put together deals that create the maximum return with minimum risk. \nGeorge Antone\, the author of the 3 best-selling books The Wealthy Code\, The Banker’s Code\, and The Debt Millionaire\, is an award-winning educator\, financier\, investor\, and anentrepreneur. He is the creator of the largest network of private money lenders in the world;and the go-to person that the big players turn to for help in structuring their larger deals. \nGet yourself and your partners\, friends\, family\, and anyone else that you want to be influenced to think bigger to our meeting where George will share: \n•The most closely guarded strategies of the TOP 1% of investors in the world.\n•How to STRUCTURE your real estate investments to MINIMIZE risk and maximize upside.\n•How to QUANTIFY risk and return\, and how to adjust both METRICS to make deals work for you.\n•What key MISTAKES to avoid in order to earn CONSISTENT and dependable passive income.\n•Develop massive CONFIDENCE in your deals by structuring them with perfect precision likethe best of the best.\n•How to live a dream LIFESTYLE with less work and less stress but more money and more FREEDOM! \nIf you’re serious about building passive income while minimizing risk; and you’ve been looking for a serious discussion of how that works\, this is it. Make sure you’re there to hear it. \n\nJOIN US \n 
URL:https://lasouthreia.com/event/join-the-1/
LOCATION:DoubleTree by Hilton Torrance\, 21333 Hawthorne Blvd\, Torrance\, CA\, 90503\, United States
CATEGORIES:Main Event
ATTACH;FMTTYPE=image/jpeg:https://lasouthreia.com/wp-content/uploads/2017/09/Antone-1.jpg
ORGANIZER;CN="LA South REIA":MAILTO:info@www.lasouthreia.com
END:VEVENT
BEGIN:VEVENT
DTSTART;TZID=UTC:20170911T183000
DTEND;TZID=UTC:20170911T211500
DTSTAMP:20260424T162834
CREATED:20170815T114740Z
LAST-MODIFIED:20170828T200611Z
UID:5868-1505154600-1505164500@lasouthreia.com
SUMMARY:Main Event: Predictable Profits\, Predicatable Systems
DESCRIPTION:Wonder why you are struggling to make a profit? Improve your business systems and processes to realize the profits you deserve!\nInvestor\, author\, and mentor Sensei Gilliland walks you through the systems EVERY investor should have in their business.\nJOIN US \n 
URL:https://lasouthreia.com/event/predictable-profits/
LOCATION:DoubleTree by Hilton Torrance\, 21333 Hawthorne Blvd\, Torrance\, CA\, 90503\, United States
CATEGORIES:Main Event
ATTACH;FMTTYPE=image/png:https://lasouthreia.com/wp-content/uploads/2017/08/Sensei-Graphic.png
ORGANIZER;CN="LA South REIA":MAILTO:info@www.lasouthreia.com
END:VEVENT
BEGIN:VEVENT
DTSTART;TZID=UTC:20170814T183000
DTEND;TZID=UTC:20170814T211500
DTSTAMP:20260424T162834
CREATED:20170712T121759Z
LAST-MODIFIED:20170712T193022Z
UID:5828-1502735400-1502745300@lasouthreia.com
SUMMARY:Main Event: Don't Fear the Gap! Raise Capital Like a Pro
DESCRIPTION:Worried about finding the right deal\, but not having the funding? Worry no more!\nApartment investor and master synidcator\, Reed Goossens\, will be give you the skills you need to raise investment capital like a PRO! Don’t let money keep you away from your next (or first) deal.\nNever fear the GAP!\nJOIN US \n 
URL:https://lasouthreia.com/event/reed-goossens/
LOCATION:DoubleTree by Hilton Torrance\, 21333 Hawthorne Blvd\, Torrance\, CA\, 90503\, United States
CATEGORIES:Main Event
ATTACH;FMTTYPE=image/png:https://lasouthreia.com/wp-content/uploads/2017/07/Gooseens-Graphic.png
ORGANIZER;CN="LA South REIA":MAILTO:info@www.lasouthreia.com
END:VEVENT
BEGIN:VEVENT
DTSTART;TZID=UTC:20170715T090000
DTEND;TZID=UTC:20170715T170000
DTSTAMP:20260424T162834
CREATED:20170712T123631Z
LAST-MODIFIED:20170712T194319Z
UID:5834-1500109200-1500138000@lasouthreia.com
SUMMARY:Rapid Cash Generation MasterClass
DESCRIPTION:Stop Spinning your Wheels and Start Making Some Deals!!\n\nAfter hearing Tom Zeeb on Monday (July 10th)\, you will want to join him for an all-day Masterclass at his\nRapid Cash Generator Workshop: How to go from spinning your wheels to profitable deals!”\n\nWhen you attend the Rapid Cash Generator workshop Tom will show you:\n* How to Generate Rapid Cash – especially if you live in a highly competitive market!\n* Dynamic Secrets to Quickly Flip Properties With No Cash\, No Risk\, No Tenants\n* How to Create a Monthly Income of $10\,000 or More\n* How to build a marketing system that finds quality motivated sellers\n* Marketing techniques to get your phone ringing off the hook with motivated sellers\n* How to turn luke-warm leads into red-hot deals\n* Power Negotiation Strategies to Get Sellers Saying “Yes”\n* How to control a deal to ensure you get paid\n* How to determine the critical numbers you need to know for Rapid Cash Generation\n* How to estimate repairs quickly and accurately\n* How to build your real estate business fast\n* How to build your dream team to get the deals done\n* Techniques that work for wholesaling\, rehabbing\, or rentals\n* How to build a lifestyle business that sets you free\n* How to maximize the 4 F’s: Fun Time\, Freedom\, Finances\, & Family\n* How to protect your family and your future\, retire in 5 to 8 short years\, and break out of the rat race so you can maximize the real estate lifestyle to its fullest.\n* And much more!\n\nIf you want to do your first deal in the next 30 days\, you can’t afford to miss this!!!\n\nJOIN US \n 
URL:https://lasouthreia.com/event/rapid-cash-generation/
LOCATION:Embassy Suites El Segundo\, 1440 E Imperial Highway\, El Segundo\, CA\, 90245\, United States
CATEGORIES:Main Event
ATTACH;FMTTYPE=image/png:https://lasouthreia.com/wp-content/uploads/2017/07/FLYER-ZEEB-GRAPHIC.png
ORGANIZER;CN="LA South REIA":MAILTO:info@www.lasouthreia.com
END:VEVENT
BEGIN:VEVENT
DTSTART;TZID=UTC:20170710T183000
DTEND;TZID=UTC:20170710T211500
DTSTAMP:20260424T162834
CREATED:20170613T160029Z
LAST-MODIFIED:20170613T230400Z
UID:5513-1499711400-1499721300@lasouthreia.com
SUMMARY:Main Event: Rapid Cashflow Generator with Tom Zeeb
DESCRIPTION:JOIN US \n 
URL:https://lasouthreia.com/event/rapid-cash-flow/
LOCATION:DoubleTree by Hilton Torrance\, 21333 Hawthorne Blvd\, Torrance\, CA\, 90503\, United States
CATEGORIES:Main Event
ATTACH;FMTTYPE=image/png:https://lasouthreia.com/wp-content/uploads/2017/06/Zeeb-ME-Ticket.png
ORGANIZER;CN="LA South REIA":MAILTO:info@www.lasouthreia.com
END:VEVENT
BEGIN:VEVENT
DTSTART;TZID=UTC:20170612T183000
DTEND;TZID=UTC:20170612T211500
DTSTAMP:20260424T162834
CREATED:20170508T084644Z
LAST-MODIFIED:20170508T154947Z
UID:2857-1497292200-1497302100@lasouthreia.com
SUMMARY:Main Event: Speed Networking!
DESCRIPTION:Need a Buyer’s List? Want to Meet Lenders? Looking for a great Realtor or Contractor? Need to Find More Wholesalers or a Business Partner?  \nMEMBER-FAVORITE EVENT OF THE YEAR \nJoin us in June for Speed Networking! It’s just like speed dating\, but for Real Estate Investors! Bring a huge stack of business cards to the next Main Event and network face-to-face with over 100 investors\, lenders\, vendors\, contractors\, and real estate service providers in under 2 hours! \nThis meeting will be FAST\, FRIENDLY\, and FUN!\nCome prepared.Bring your business cards\, bring a sharpie\, and bring your best 30-second pitch. Your goal is to be remembered at the end of the night. Don’t miss it! \nRSVP today!\nFree for members of LA South REIA\, $25 for pre-registered non-members. $30 at the door. \n\nJOIN US \n 
URL:https://lasouthreia.com/event/speed-networking/
LOCATION:DoubleTree by Hilton Torrance\, 21333 Hawthorne Blvd\, Torrance\, CA\, 90503\, United States
CATEGORIES:Main Event
ATTACH;FMTTYPE=image/png:https://lasouthreia.com/wp-content/uploads/2017/05/Speed-2017.png
ORGANIZER;CN="LA South REIA":MAILTO:info@www.lasouthreia.com
END:VEVENT
BEGIN:VEVENT
DTSTART;TZID=UTC:20170513T090000
DTEND;TZID=UTC:20170513T160000
DTSTAMP:20260424T162834
CREATED:20170410T082951Z
LAST-MODIFIED:20170509T231746Z
UID:2247-1494666000-1494691200@lasouthreia.com
SUMMARY:J Massey Workshop: Blueprint to a 6-Figure AirBNB Business
DESCRIPTION:Want to learn to be how to run an Air BNB Business like a pro? Want to earn double-digit returns on your rental units? \nVeteran investor and turn-key expert\, J Massey\, will spend the day teaching you EXACTLY how he has created a Low-Touch\, HIGH PROFIT\, Short-Term Rental (Air BNB) business using real estate he owns and controls! \nYou don’t need to own properties or have a ton of cash to get into this business. You just need to learn how to follow a system that works\, then wash\, rinse\, and repeat! \nJoin us for J’s ONLY LIVE WORKSHOP to learn:\n> The blueprint and systems needed to build a double-digit cashflow empire\n> How you can see profits in under 60 days\, even if you don’t own a property\n> What it takes to run a 7-figure business from a tablet or smartphone\n> How to mitigate your risk in the Air BNB business \nJOIN US
URL:https://lasouthreia.com/event/jmassey-short-term-rental/
LOCATION:Holiday Inn Los Angeles Gateway\, 19800 S Vermont Ave\, Torrance\, CA\, 90502\, United States
CATEGORIES:Main Event,Workshops
ATTACH;FMTTYPE=image/png:https://lasouthreia.com/wp-content/uploads/2017/04/Eventbrite.png
ORGANIZER;CN="LA South REIA":MAILTO:info@www.lasouthreia.com
END:VEVENT
BEGIN:VEVENT
DTSTART;TZID=UTC:20170508T183000
DTEND;TZID=UTC:20170508T211500
DTSTAMP:20260424T162834
CREATED:20170410T084408Z
LAST-MODIFIED:20170410T154730Z
UID:2257-1494268200-1494278100@lasouthreia.com
SUMMARY:Main Event: Short-Term Rentals; Long-Term Profits
DESCRIPTION:RSVP today!\nFree for members of LA South REIA\, $25 for pre-registered non-members. $30 at the door. \n\nJOIN US \n 
URL:https://lasouthreia.com/event/short-term-rentals/
LOCATION:DoubleTree by Hilton Torrance\, 21333 Hawthorne Blvd\, Torrance\, CA\, 90503\, United States
CATEGORIES:Main Event
ATTACH;FMTTYPE=image/png:https://lasouthreia.com/wp-content/uploads/2017/04/thumbnail-vx0jqD-2.png
ORGANIZER;CN="LA South REIA":MAILTO:info@www.lasouthreia.com
END:VEVENT
BEGIN:VEVENT
DTSTART;TZID=UTC:20170410T183000
DTEND;TZID=UTC:20170410T211500
DTSTAMP:20260424T162834
CREATED:20170315T130156Z
LAST-MODIFIED:20170405T184336Z
UID:1718-1491849000-1491858900@lasouthreia.com
SUMMARY:Main Event: California's Favorite Investor\, Bruce Norris
DESCRIPTION:What is the CA real estate investing market doing? \nFind out what the most-watched expert thinks at the April Main Event!\n\nBruce Norris is a real estate veteran with over 30 years in the business and well over 2\,000 real estate transactions under his belt as an investor\, builder\, and hard money lender. He’s also helped educate thousands of investors all over California how to be successful in the business. \nLA South REIA is proud to welcome Bruce this month to share his thoughts on where the market is heading right now and share stories that have shaped his lengthy career. \nBruce will share:\n– Secrets to getting started AND how to stay in the business\n– How to conquer fear as an investing entrepreneur\n– How you can achieve unthinkable goals\n– How to predict the FUTURE in real estate\n– How intuition and doing the right thing can help those in distress \nRSVP to see California’s Favorite Investor!\nFree for members of LA South REIA\, $25 for pre-registered non-members. $30 at the door. \n\nJOIN US \n 
URL:https://lasouthreia.com/event/bruce-norris/
LOCATION:DoubleTree by Hilton Torrance\, 21333 Hawthorne Blvd\, Torrance\, CA\, 90503\, United States
CATEGORIES:Main Event
ATTACH;FMTTYPE=image/png:https://lasouthreia.com/wp-content/uploads/2017/03/NORRIS-TICKET.png
ORGANIZER;CN="LA South REIA":MAILTO:info@www.lasouthreia.com
END:VEVENT
BEGIN:VEVENT
DTSTART;TZID=UTC:20170313T183000
DTEND;TZID=UTC:20170313T211500
DTSTAMP:20260424T162834
CREATED:20170214T113935Z
LAST-MODIFIED:20170308T183109Z
UID:1526-1489429800-1489439700@lasouthreia.com
SUMMARY:Main Event: Low-Capital Acquisition with Pete Fortunato
DESCRIPTION:Want to TRIPLE the number of tools at your disposal to help motivated sellers?\nWish you had more creative solutions to land more deals? \nLA South REIA is honored to host INVESTING LEGEND and MASTER EDUCATOR\, Pete Fortunato. There are few names in our industry responsible for single-handedly creating hundreds of MILLIONAIRES – and Pete is one. \nYour mission (should you choose to accept it) is to come learn from one of the brightest investing minds in America! On March 13th\, Pete will focus on CREATIVE ACQUISTION STRATEGIES and how to use as little capital as possible in your pursuit of real estate. \nA chance like this may not happen again\, so take advantage of it while you can! Do not miss this opportunity to meet and learn from this legend. \n\nFree for members of LA South REIA\, $25 for pre-registered non-members. $30 at the door.\nRSVP TODAY! \nJOIN US
URL:https://lasouthreia.com/event/acquisition_fortunato/
LOCATION:DoubleTree by Hilton Torrance\, 21333 Hawthorne Blvd\, Torrance\, CA\, 90503\, United States
CATEGORIES:Main Event
ATTACH;FMTTYPE=image/png:https://lasouthreia.com/wp-content/uploads/2017/02/FORT-tICKET.png
ORGANIZER;CN="LA South REIA":MAILTO:info@www.lasouthreia.com
END:VEVENT
BEGIN:VEVENT
DTSTART;TZID=UTC:20170213T183000
DTEND;TZID=UTC:20170213T211500
DTSTAMP:20260424T162834
CREATED:20160907T040912Z
LAST-MODIFIED:20170110T231147Z
UID:1031-1487010600-1487020500@lasouthreia.com
SUMMARY:Main Event: Control 2 Profit with Lease Options
DESCRIPTION:Free for members of LA South REIA\, $25 for pre-registered non-members. $30 at the door.\nRSVP TODAY! \nJOIN US
URL:https://lasouthreia.com/event/control-2-profit-lease-options-aydelotte/
LOCATION:DoubleTree by Hilton Torrance\, 21333 Hawthorne Blvd\, Torrance\, CA\, 90503\, United States
CATEGORIES:Main Event
ATTACH;FMTTYPE=image/png:https://lasouthreia.com/wp-content/uploads/2017/01/Adel-Ticket.png
ORGANIZER;CN="LA South REIA":MAILTO:info@www.lasouthreia.com
END:VEVENT
BEGIN:VEVENT
DTSTART;TZID=UTC:20170109T183000
DTEND;TZID=UTC:20170109T211500
DTSTAMP:20260424T162834
CREATED:20161216T142128Z
LAST-MODIFIED:20170104T211652Z
UID:1343-1483986600-1483996500@lasouthreia.com
SUMMARY:Main Event: Build Your Own Capital-Raising Engine
DESCRIPTION:If your New Year’s Resolutions include making more money\, you’ll need more deals and more lenders! \nJoin us at the January Main Event to learn all about raising unlimited capital through the exciting space of crowdfunding. Expert syndicator and founder of Bullseye Capital\, Joel Block\, will pull back the curtain on the rich world of real estate investment crowdfunding and show you how to grab your share! \nMany investors have not ventured into the crowdfunding space because it is still new\, evolving\, and confusing. After Joel’s presentation\, you will:\n> Be clear on how crowdfunding work for investments\n> Know which crowdfunding strategy works best – and when to use it\n> Learn how to keep your cost of capital down\n> Find out how to tap into the multi-billions controlled by Wealth Managers\n> Learn how to eliminate fees when using SDIRA funds \nJump into crowdfunding and take your business to a whole new level in 2017! \nFree for paid members of LA South REIA\, $30 for guests. Preregister to save $5.\nJOIN US
URL:https://lasouthreia.com/event/create-your-own-capital-raising-engine-with-crowd-funding/
LOCATION:DoubleTree by Hilton Torrance\, 21333 Hawthorne Blvd\, Torrance\, CA\, 90503\, United States
CATEGORIES:Main Event
ATTACH;FMTTYPE=image/jpeg:https://lasouthreia.com/wp-content/uploads/2016/12/tix_owncapital.jpg
ORGANIZER;CN="LA South REIA":MAILTO:info@www.lasouthreia.com
END:VEVENT
BEGIN:VEVENT
DTSTART;TZID=UTC:20161212T183000
DTEND;TZID=UTC:20161212T211500
DTSTAMP:20260424T162834
CREATED:20160907T041016Z
LAST-MODIFIED:20161207T111925Z
UID:1034-1481567400-1481577300@lasouthreia.com
SUMMARY:Main Event: Top Market Trends for 2017
DESCRIPTION:  \nLA South REIA ends the year with a bang! \nAs we say goodbye to 2016\, we look ahead to some INCREDIBLE investing opportunities in 2017. Stay ahead of the curve and informed to position yourself for the BEST INVESTING YEAR EVER. \nJoin veteran investor and owner of County Records Research\, Kurt DeMeire\, at the December Main Event for a data interactive into the Top Market Trends for 2017. Not only will Kurt tell us what to watch out for\, but he will show us how to spot opportunity like a pro! \nDive into these Top Trends for 2017 and learn how to profit from: \n• The rise of reverse mortgage foreclosures: Spot them\, profit from them\n• The end of the line for long-term defaulters: Banks return to business as usual\n• The growing wave of new foreclosures: Equity-rich\, but in default\n• Distressed property and note inventory ahead: Hedge funds and lenders look to liquidate\n• Stockpile cash: Buying opportunities ahead \nFree for paid members of LA South REIA\, $30 for guests. Preregister to save $5. \nJOIN US
URL:https://lasouthreia.com/event/october-main-event-2016-12/
LOCATION:DoubleTree by Hilton Torrance\, 21333 Hawthorne Blvd\, Torrance\, CA\, 90503\, United States
CATEGORIES:Main Event
ATTACH;FMTTYPE=image/jpeg:https://lasouthreia.com/wp-content/uploads/2016/11/tix-topMarketTrends2017.jpg
ORGANIZER;CN="LA South REIA":MAILTO:info@www.lasouthreia.com
END:VEVENT
BEGIN:VEVENT
DTSTART;TZID=UTC:20161207T180000
DTEND;TZID=UTC:20161208T220000
DTSTAMP:20260424T162834
CREATED:20161121T202756Z
LAST-MODIFIED:20161203T024203Z
UID:1290-1481133600-1481234400@lasouthreia.com
SUMMARY:Wholesaling Workshop
DESCRIPTION:Revolution Flip presents: \nArt of Wholesaling Workshop\n\n\nReady to make some quick cash in real estate? Join us to learn how the best wholesalers GET IN\, GET OUT\, and GET PAID in this business!\nYou will learn:\n\nHow to identify distress and find deals first\nHow to market to fill your pipeline every month\nHow to have others bring you more juicy deals\nHow to make >$10\,000/deal through expert negotiation\nHow to build your buyer’s list and get your property sold in minutes\nHow to handle the paperwork\, docs\, and contracts of a wholesale\n\n 8 FULL Hours: Nov 30 & Dec 1   RESCHEDULED to December 7&8\, 6-10PM\nJOIN US
URL:https://lasouthreia.com/event/art_of_wholesale/
LOCATION:CoWork SouthBay\, 22519 Hawthorne Blvd\, Torrance\, CA\, 90505\, United States
CATEGORIES:Main Event,Revolution Flip,Workshops
ATTACH;FMTTYPE=image/jpeg:https://lasouthreia.com/wp-content/uploads/2016/12/tix-wholesale.jpg
ORGANIZER;CN="LA South REIA":MAILTO:info@www.lasouthreia.com
END:VEVENT
BEGIN:VEVENT
DTSTART;TZID=UTC:20161114T183000
DTEND;TZID=UTC:20161114T211500
DTSTAMP:20260424T162834
CREATED:20170110T103421Z
LAST-MODIFIED:20170110T103421Z
UID:1402-1479148200-1479158100@lasouthreia.com
SUMMARY:November Main Event: Low-Cash\, High Return Deals Copy
DESCRIPTION:Deals that make sense are very hard to find right now.  \nPrices are increasing and buyers are still being very selective and cautious. \n\nJoin us this month as veteran investor and entrepreneur\,  Andy Teasley\, shares how to make HUGE returns in the incredibly-lucrative mobile home niche. With over 20 years of investing experience\, Andy can consistently generate yields of over 35% and will show you more about LOW CASH -HIGH RETURN deals available right here in Southern California.\n\nTopics will include:\n• How to find and flip property when your have very little cash.\n• How to create notes that generate a 40-60% yield.\n• How to double your investment funds in 60-90 days.\n• Why you should stop fishing in a pool full of others’ poles\n• How to use your IRA contribution to grow a tax-free retirement\n\nFree for members of LA South REIA\, $25 for pre-registered non-members. $30 at the door.\nRSVP TODAY! \nJOIN US
URL:https://lasouthreia.com/event/november-main-event-2016-11-copy/
LOCATION:DoubleTree by Hilton Torrance\, 21333 Hawthorne Blvd\, Torrance\, CA\, 90503\, United States
CATEGORIES:Main Event
ATTACH;FMTTYPE=image/jpeg:https://lasouthreia.com/wp-content/uploads/2016/10/tix-highreturn.jpg
ORGANIZER;CN="LA South REIA":MAILTO:info@www.lasouthreia.com
END:VEVENT
BEGIN:VEVENT
DTSTART;TZID=UTC:20160912T183000
DTEND;TZID=UTC:20160912T211500
DTSTAMP:20260424T162834
CREATED:20160819T090800Z
LAST-MODIFIED:20160912T105211Z
UID:838-1473705000-1473714900@lasouthreia.com
SUMMARY:Raising Private Capital
DESCRIPTION:You’ve figured out how to find the deal\, now you have to figure out how to FUND it. \nAs investors\, our ability to raise private capital is critical to the expansion of our business AND often the key to investing profitability. Yet\, most investors are SCARED to use O.P.M. because the simply don’t know how to ask for it. \nInvestor and coach\, J Massey\, returns to LA South REIA in September to share with you the strategies that worked for him when he raised his FIRST $ and the strategies that continue to work now that he has raised MILLIONS. \nRSVP today to learn: \n\nHow to prepare your private lending pitch\nWhere to go to meet and connect with lenders\nWhat to say to lenders once you meet them\nHow to make your lenders so happy\, their investment doubles on your next deal\n\nStop letting lack of money be your excuse. Money is ALL AROUND us in Southern California. Join us in September to learn how to real in your first $100K in under 60 days! \nJOIN US
URL:https://lasouthreia.com/event/raising-private-capital/
LOCATION:DoubleTree by Hilton Torrance\, 21333 Hawthorne Blvd\, Torrance\, CA\, 90503\, United States
CATEGORIES:Main Event
ATTACH;FMTTYPE=image/jpeg:https://lasouthreia.com/wp-content/uploads/2016/08/privatecapital.jpg
ORGANIZER;CN="LA South REIA":MAILTO:info@www.lasouthreia.com
END:VEVENT
END:VCALENDAR