BEGIN:VCALENDAR
VERSION:2.0
PRODID:-//LA South REIA - ECPv6.15.15//NONSGML v1.0//EN
CALSCALE:GREGORIAN
METHOD:PUBLISH
X-WR-CALNAME:LA South REIA
X-ORIGINAL-URL:https://lasouthreia.com
X-WR-CALDESC:Events for LA South REIA
REFRESH-INTERVAL;VALUE=DURATION:PT1H
X-Robots-Tag:noindex
X-PUBLISHED-TTL:PT1H
BEGIN:VTIMEZONE
TZID:America/Los_Angeles
BEGIN:DAYLIGHT
TZOFFSETFROM:-0800
TZOFFSETTO:-0700
TZNAME:PDT
DTSTART:20170312T100000
END:DAYLIGHT
BEGIN:STANDARD
TZOFFSETFROM:-0700
TZOFFSETTO:-0800
TZNAME:PST
DTSTART:20171105T090000
END:STANDARD
BEGIN:DAYLIGHT
TZOFFSETFROM:-0800
TZOFFSETTO:-0700
TZNAME:PDT
DTSTART:20180311T100000
END:DAYLIGHT
BEGIN:STANDARD
TZOFFSETFROM:-0700
TZOFFSETTO:-0800
TZNAME:PST
DTSTART:20181104T090000
END:STANDARD
BEGIN:DAYLIGHT
TZOFFSETFROM:-0800
TZOFFSETTO:-0700
TZNAME:PDT
DTSTART:20190310T100000
END:DAYLIGHT
BEGIN:STANDARD
TZOFFSETFROM:-0700
TZOFFSETTO:-0800
TZNAME:PST
DTSTART:20191103T090000
END:STANDARD
END:VTIMEZONE
BEGIN:VEVENT
DTSTART;TZID=America/Los_Angeles:20181126T190000
DTEND;TZID=America/Los_Angeles:20181126T210000
DTSTAMP:20260424T084920
CREATED:20190118T024004Z
LAST-MODIFIED:20190118T024004Z
UID:13274-1543258800-1543266000@lasouthreia.com
SUMMARY:Multifamily Subgroup 11-26  Copy
DESCRIPTION:INVEST IN SOMETHING BIG: Multi-family Syndications\n \nEver wondered how you can be part of a really BIG DEAL?\nJoin us for the final Multi-family subgroup of the year as we feature\, guest speaker\, Reed Goossens\, CEO and lead syndicator of RSN Property Group\, to learn how even small investors can participate in some very large real estate syndication deals. Get a look at several of Reed’s current projects and case studies of how investors can get in on some big deals! Syndications don’t have to be a mystery. Join us to learn more about this fantastic strategy!  \n\n \nCome early and join our sponsors\, Buckingham Investments\, for a holiday reception throughout the evening. We are ending the year with a bang!\n\nPOLICY CHANGE: This event is open to LA South REIA Pro Members only.\nFirst-time guests are welcome to attend for $20\, paid at the door.\nReturning non-members will not be admitted. \nRSVP Today \n  \nRemember: Subgroups are FREE for PRO and LEGACY MEMBERS ONLY. \nCLICK HERE TO JOIN TODAY
URL:https://lasouthreia.com/event/multifamily-subgroup-11-26-copy-2/
LOCATION:CoWork SouthBay\, 22519 Hawthorne Blvd\, Torrance\, CA\, 90505\, United States
CATEGORIES:Future Events,Main Event,Subgroups
ATTACH;FMTTYPE=image/png:https://lasouthreia.com/wp-content/uploads/2018/11/Nov-18-MF.png
ORGANIZER;CN="LA South REIA":MAILTO:info@www.lasouthreia.com
END:VEVENT
BEGIN:VEVENT
DTSTART;TZID=America/Los_Angeles:20181126T190000
DTEND;TZID=America/Los_Angeles:20181126T210000
DTSTAMP:20260424T084920
CREATED:20190118T024002Z
LAST-MODIFIED:20190118T024002Z
UID:13273-1543258800-1543266000@lasouthreia.com
SUMMARY:Multifamily Subgroup 11-26  Copy
DESCRIPTION:INVEST IN SOMETHING BIG: Multi-family Syndications\n \nEver wondered how you can be part of a really BIG DEAL?\nJoin us for the final Multi-family subgroup of the year as we feature\, guest speaker\, Reed Goossens\, CEO and lead syndicator of RSN Property Group\, to learn how even small investors can participate in some very large real estate syndication deals. Get a look at several of Reed’s current projects and case studies of how investors can get in on some big deals! Syndications don’t have to be a mystery. Join us to learn more about this fantastic strategy!  \n\n \nCome early and join our sponsors\, Buckingham Investments\, for a holiday reception throughout the evening. We are ending the year with a bang!\n\nPOLICY CHANGE: This event is open to LA South REIA Pro Members only.\nFirst-time guests are welcome to attend for $20\, paid at the door.\nReturning non-members will not be admitted. \nRSVP Today \n  \nRemember: Subgroups are FREE for PRO and LEGACY MEMBERS ONLY. \nCLICK HERE TO JOIN TODAY
URL:https://lasouthreia.com/event/multifamily-subgroup-11-26-copy/
LOCATION:CoWork SouthBay\, 22519 Hawthorne Blvd\, Torrance\, CA\, 90505\, United States
CATEGORIES:Future Events,Main Event,Subgroups
ATTACH;FMTTYPE=image/png:https://lasouthreia.com/wp-content/uploads/2018/11/Nov-18-MF.png
ORGANIZER;CN="LA South REIA":MAILTO:info@www.lasouthreia.com
END:VEVENT
BEGIN:VEVENT
DTSTART;TZID=America/Los_Angeles:20181126T190000
DTEND;TZID=America/Los_Angeles:20181126T210000
DTSTAMP:20260424T084920
CREATED:20181113T220003Z
LAST-MODIFIED:20181126T225945Z
UID:12885-1543258800-1543266000@lasouthreia.com
SUMMARY:Multifamily Subgroup 11-26
DESCRIPTION:INVEST IN SOMETHING BIG: Multi-family Syndications\n \nEver wondered how you can be part of a really BIG DEAL?\nJoin us for the final Multi-family subgroup of the year as we feature\, guest speaker\, Reed Goossens\, CEO and lead syndicator of RSN Property Group\, to learn how even small investors can participate in some very large real estate syndication deals. Get a look at several of Reed’s current projects and case studies of how investors can get in on some big deals! Syndications don’t have to be a mystery. Join us to learn more about this fantastic strategy!  \n\n \nCome early and join our sponsors\, Buckingham Investments\, for a holiday reception throughout the evening. We are ending the year with a bang!\n\nPOLICY CHANGE: This event is open to LA South REIA Pro Members only.\nFirst-time guests are welcome to attend for $20\, paid at the door.\nReturning non-members will not be admitted. \nRSVP Today \n  \nRemember: Subgroups are FREE for PRO and LEGACY MEMBERS ONLY. \nCLICK HERE TO JOIN TODAY
URL:https://lasouthreia.com/event/multifamily-subgroup-11-26/
LOCATION:CoWork SouthBay\, 22519 Hawthorne Blvd\, Torrance\, CA\, 90505\, United States
CATEGORIES:Future Events,Main Event,Subgroups
ATTACH;FMTTYPE=image/png:https://lasouthreia.com/wp-content/uploads/2018/11/Nov-18-MF.png
ORGANIZER;CN="LA South REIA":MAILTO:info@www.lasouthreia.com
END:VEVENT
BEGIN:VEVENT
DTSTART;TZID=America/Los_Angeles:20181112T190000
DTEND;TZID=America/Los_Angeles:20181112T213000
DTSTAMP:20260424T084920
CREATED:20181005T210145Z
LAST-MODIFIED:20181005T214325Z
UID:12658-1542049200-1542058200@lasouthreia.com
SUMMARY:America's #1 Tax Lawyer
DESCRIPTION:NOV 12 MAIN EVENT \n  \n\nAMERICA’S #1 TAX LAWYER\nwill be discussing \nSELF DIRECTED IRAs\nTAX PLANNING\nASSET PROTECTION \nJohn Hyre is a tax attorney\, accountant and real estate investor with over 20 years of experience\nwith direct experiences in IRS audits and in Tax ourt with SDIRA andd REI issues.\nHe consults with real estate investors of all sizes\, small business owners and self-directed IRA/401k owners nationwide.\nHe also represents taxpayers in audits and in Tax Court nationwide.\nHe speaks nationally on taxation of self-directed IRA’s/401k’s\, taxation of real estate & small businesses\, and asset protection.\nThough some may consider John an “offensive” speaker (you have been warned… LOL)\,\nhe is actually incredibly insightful\, very entertaining\,\nand one of the nation’s leading experts on these topics. \n  \n\nJoin us NOV 12\, at The Double Tree Hotel in Torrance\nDoors open at 7 PM\, Meeting is from 7:30-9:30 PM
URL:https://lasouthreia.com/event/americas-number1-tax-lawyer/
LOCATION:DoubleTree by Hilton Torrance\, 21333 Hawthorne Blvd\, Torrance\, CA\, 90503\, United States
CATEGORIES:Future Events,Main Event
ATTACH;FMTTYPE=image/png:https://lasouthreia.com/wp-content/uploads/2018/10/John-Hyre-Main-Event-1000.png
ORGANIZER;CN="LA South REIA":MAILTO:info@www.lasouthreia.com
END:VEVENT
BEGIN:VEVENT
DTSTART;VALUE=DATE:20181027
DTEND;VALUE=DATE:20181029
DTSTAMP:20260424T084920
CREATED:20180910T204532Z
LAST-MODIFIED:20181012T201427Z
UID:12532-1540598400-1540771199@lasouthreia.com
SUMMARY:The Ultimate Real Estate Investing Workshop
DESCRIPTION:ATTENTION: \nTHIS EVENT HAS BEEN MOVED TO OCT 27-28\n\nFilling The Gaps In Your Knowledge To Achieve Success.\nMost new investors know or have a basic idea of WHAT to do.\nBut when it comes to actually doing it\, the most common obstacle is knowing HOW to do it. \nThe biggest problem with moving forward is the GAPS IN KNOWLEDGE.\nFor new investors\, there are almost always very important details\nthat are missing in your knowledge.\nUsually\, this is because some things are rarely ever “taught”.\nThey usually have to be learned through the real-world experience of making mistakes.\nUnfortunately\, these mistakes are very costly\, often to the tune of tens of thousands of dollars. \nWe have realized that most instructors teach the basics\nbut leave out these VERY IMPORTANT details\,\nthus creating these huge GAPS IN KNOWLEDGE for new investors.\nSometimes there are good reasons for this.\nSometimes the instructors only specialize in a single area of expertise.\nSometimes it’s because they are withholding the knowledge so that they can sell it to you in the form of a book\, or DVD or packaged course.\nThe problem is that filling the gaps in your knowledge through a packaged course\nis VERY difficult and often not very effective. \nWE ARE GOING TO REMEDY THIS. \nOn Oct 27-28\,  for TWO FULL DAYS\, we are going to finally teach what everyone else leaves out.\nWe are going to FILL THE GAPS IN YOUR KNOWLEDGE.\nNothing held back.\nWe are putting it ALL out there.\nTHIS IS THE BIG ONE. \nIf you want to move forward and find success in real estate investing\,\nwe are going to share all the secrets.\nEverything we know.\nWe are going to single-handedly solve the biggest problem that new real estate investors face.\nAfter this one\, you will have no more obstacles\,\nno more “foggy” vague understanding of things. \nYou will have the tools you have been looking for to succeed. \nDO NOT MISS THIS TWO FULL DAYS WORKSHOP!!! \n  \nOCT 27-28\, 9AM-5PM\nLocation: CoWork\, Torrance CA \n  \nATTENTION: \nTHIS EVENT HAS BEEN MOVED TO OCT 27-28
URL:https://lasouthreia.com/event/ultimate-workshop/
LOCATION:CoWork SouthBay\, 22519 Hawthorne Blvd\, Torrance\, CA\, 90505\, United States
CATEGORIES:Future Events,Workshops
ORGANIZER;CN="LA South REIA":MAILTO:info@www.lasouthreia.com
END:VEVENT
BEGIN:VEVENT
DTSTART;TZID=America/Los_Angeles:20181008T190000
DTEND;TZID=America/Los_Angeles:20181008T213000
DTSTAMP:20260424T084920
CREATED:20180910T113120Z
LAST-MODIFIED:20180910T114258Z
UID:12498-1539025200-1539034200@lasouthreia.com
SUMMARY:The Power Of Negotiation
DESCRIPTION:Oct 8 \n\nEver felt like you were out-negotiated?\nEver wished you knew how to negotiate a better win-win in business or in life? \nJoin us at the October Main Event\nto learn how to use the POWER OF NEGOTIATION\nto get what you want in business and in life! \nNegotiations expert and contract attorney\, Douglas Spoors\,\nwill join us to share the principles of negotiation\nyou MUST know to be successful\, not just in real estate\, but in every aspect of life. \nThe art of negotiation can be learned…\nand with some experience\, it can be mastered! \nCome and learn the techniques used by the experts\nto get predictable results and favorable outcomes\nfrom all of your negotiations.\nWhether you consider yourself a novice or a pro at the art of negotiation\,\nthis event is for you! \n  \n\nJoin us Oct 8 at The Double Tree Hotel in Torrance\nDoors open at 7 PM\, Meeting is from 7:30-9:30 PM
URL:https://lasouthreia.com/event/power-of-negotiation/
LOCATION:DoubleTree by Hilton Torrance\, 21333 Hawthorne Blvd\, Torrance\, CA\, 90503\, United States
CATEGORIES:Future Events,Main Event
ATTACH;FMTTYPE=image/png:https://lasouthreia.com/wp-content/uploads/2018/09/NEGOTIATION-Main-Event-10-8-WEB-EMAIL.png
ORGANIZER;CN="LA South REIA":MAILTO:info@www.lasouthreia.com
END:VEVENT
BEGIN:VEVENT
DTSTART;TZID=America/Los_Angeles:20180920T190000
DTEND;TZID=America/Los_Angeles:20180920T200000
DTSTAMP:20260424T084920
CREATED:20180917T195148Z
LAST-MODIFIED:20180917T200428Z
UID:12595-1537470000-1537473600@lasouthreia.com
SUMMARY:FREE Privy Webinar
DESCRIPTION:Tired of asking your agent for COMPS\, or finding unreliable data from the web?\nAre you having trouble finding REAL DEALS? \n\n\n\nThere is a new game in town for real estate investors. The all New\, Privy REI Software. \n\n\n\nThe real estate investing world is behind the times when it comes to technology. The fact of the matter is there aren’t enough hours in the day for you to do all the things you need to do in a day to be a successful real estate investor. You need a way to shortcut the system. There are ways to do this… it’s called “REI Hacking”! \n\n\n\n\n\n\n\nFor example: Did you know you can use the collective knowledge of successful real estate investors from right here in the DMV? Use their years of experience to become a better real estate investor in a matter of minutes. \n\n\n\nFor a limited time you can try Privy out risk-free. You’ll experience the Edge that Privy gives and learn several technology powered #REIHACKS: \n\n\n1. How to see what other investors are having success with\n2. How to find deals on autopilot\n3. How to get access to MLS data and pull your own comps\n4. How to analyze any Property and know if it’s a deal quickly\n5. How to keep your finger on the pulse of your local market\n6. How to find the hottest investment areas\n\nDo not miss this opportunity to try Privy REI Software risk-free. Try it out for yourself you’ll shorten your learning curve and eliminate many of the barriers holding you from REI goals.\n\nJoin us for a FREE webinar this\nThursday\, September 20 from 7-8 to learn how you can get the EDGE\, risk-free!\n\n\nCLICK HERE TO REGISTER
URL:https://lasouthreia.com/event/free-privy-webinar/
CATEGORIES:Future Events,Webinars
ATTACH;FMTTYPE=image/png:https://lasouthreia.com/wp-content/uploads/2018/09/Privy-Webinar-promo-FULL-SIZE.png
ORGANIZER;CN="LA South REIA":MAILTO:info@www.lasouthreia.com
END:VEVENT
BEGIN:VEVENT
DTSTART;TZID=America/Los_Angeles:20180910T190000
DTEND;TZID=America/Los_Angeles:20180910T213000
DTSTAMP:20260424T084920
CREATED:20180811T061140Z
LAST-MODIFIED:20180904T201629Z
UID:12044-1536606000-1536615000@lasouthreia.com
SUMMARY:Hacking Finance
DESCRIPTION:Sept 10 \n\nLA South REIA’s favorite investing genius\, George Antone is at it again!\nThis 3-time best-selling author and leading finance and investing expert\nhas incredible new content to put you on the path to financial freedom\n(in record time) and we can’t wait to bring the FYNANC team back to our stage! \nWhat if there was a different paradigm for building wealth that was less stressful\,\nmitigated risk and was easier to use versus traditional methods? \nWhat if you could learn to build insane wealth (like the top 1%) and even have fun along the way?! \n  \nIf you want to learn more from this incredible thought leader\,\njoin Paul Rossano\, George’s #1 trainer\, on September 10th at the Main Event meeting\nas he blows the lid off this new paradigm.\nSee how their students are building financial security and peace of mind\nin a relatively short period of time; and for investors\,\nboosting their yields when combined with their existing investments.\nThis is exciting stuff! \nThis new paradigm called\n“Hacking Finance”\nallows you to LEARN and IMPLEMENT\neach financial strategy in 6 hours or less a month\,\nwith significant results over time. \nCome find out what others are currently doing to leap forward financially\nwith less risk\, less stress\, and more time to enjoy life!\nWith a few tweaks and a different approach\,\nyou’ll find you have more to work with than you thought. \n  \n\nJoin us Sept 10 at The Double Tree Hotel in Torrance\nDoors open at 7 PM\, Meeting is from 7:30-9:30 PM
URL:https://lasouthreia.com/event/hacking-finance/
LOCATION:DoubleTree by Hilton Torrance\, 21333 Hawthorne Blvd\, Torrance\, CA\, 90503\, United States
CATEGORIES:Future Events,Main Event
ATTACH;FMTTYPE=image/png:https://lasouthreia.com/wp-content/uploads/2018/08/Hacking-Finance-Main-Event-9-10-e1533971426137.png
ORGANIZER;CN="LA South REIA":MAILTO:info@www.lasouthreia.com
END:VEVENT
BEGIN:VEVENT
DTSTART;TZID=America/Los_Angeles:20180813T190000
DTEND;TZID=America/Los_Angeles:20180813T213000
DTSTAMP:20260424T084920
CREATED:20180709T061743Z
LAST-MODIFIED:20180813T202526Z
UID:11842-1534186800-1534195800@lasouthreia.com
SUMMARY:Robyn Thompson - The Queen Of Rehab
DESCRIPTION:THIS EVENT WILL TAKE YOUR INVESTING TO THE NEXT LEVEL\nRobyn Thompson “The Queen of Rehab”\nLearn How to Put $20\,000 Cash In The Bank Each Month. \nRobyn has shared her knowledge with thousands of students across our nation\nand is now coming to LA to explain her perfected system and how it will work for you. \nThis is not a “blue sky” program but a reality\nand each and every one of you can place as she does Cash In The Bank.\nRobyn has rehabbed over 390 properties in her 20 years of investing. \nShe will instruct you on: \n\nHer Buying Machine\nWhere to Find Properties to Rehab for profit\n10 Criteria to Ensure High-Profit Deals\nThe Rehab Process\nLocating the Best Contractors to Get the Job Done\nPrescreening Contractors\n9 Types of Houses to Never buy\n4 Strategies to Funding Deals when You Have No Money\nMaximum Allowable Offer formula\n\n  \nAs you can see this will be a knowledge packed day full of excitement and education.\nMake a list of your questions and have them ready for her at her table following the end of the session.\nRobyn will remain near her table answering all questions possible for each and every one.\nWe look forward to seeing you at this great event.
URL:https://lasouthreia.com/event/robyn-thompson-8-13/
LOCATION:DoubleTree by Hilton Torrance\, 21333 Hawthorne Blvd\, Torrance\, CA\, 90503\, United States
CATEGORIES:Future Events,Main Event
ATTACH;FMTTYPE=image/png:https://lasouthreia.com/wp-content/uploads/2018/07/Robyn-Thompson-Aug-13.png
ORGANIZER;CN="LA South REIA":MAILTO:info@www.lasouthreia.com
END:VEVENT
END:VCALENDAR