BEGIN:VCALENDAR
VERSION:2.0
PRODID:-//LA South REIA - ECPv6.15.15//NONSGML v1.0//EN
CALSCALE:GREGORIAN
METHOD:PUBLISH
X-WR-CALNAME:LA South REIA
X-ORIGINAL-URL:https://lasouthreia.com
X-WR-CALDESC:Events for LA South REIA
REFRESH-INTERVAL;VALUE=DURATION:PT1H
X-Robots-Tag:noindex
X-PUBLISHED-TTL:PT1H
BEGIN:VTIMEZONE
TZID:America/Los_Angeles
BEGIN:DAYLIGHT
TZOFFSETFROM:-0800
TZOFFSETTO:-0700
TZNAME:PDT
DTSTART:20180311T100000
END:DAYLIGHT
BEGIN:STANDARD
TZOFFSETFROM:-0700
TZOFFSETTO:-0800
TZNAME:PST
DTSTART:20181104T090000
END:STANDARD
BEGIN:DAYLIGHT
TZOFFSETFROM:-0800
TZOFFSETTO:-0700
TZNAME:PDT
DTSTART:20190310T100000
END:DAYLIGHT
BEGIN:STANDARD
TZOFFSETFROM:-0700
TZOFFSETTO:-0800
TZNAME:PST
DTSTART:20191103T090000
END:STANDARD
BEGIN:DAYLIGHT
TZOFFSETFROM:-0800
TZOFFSETTO:-0700
TZNAME:PDT
DTSTART:20200308T100000
END:DAYLIGHT
BEGIN:STANDARD
TZOFFSETFROM:-0700
TZOFFSETTO:-0800
TZNAME:PST
DTSTART:20201101T090000
END:STANDARD
END:VTIMEZONE
BEGIN:VEVENT
DTSTART;TZID=America/Los_Angeles:20190427T080000
DTEND;TZID=America/Los_Angeles:20190427T170000
DTSTAMP:20260423T200835
CREATED:20190320T235329Z
LAST-MODIFIED:20190425T223553Z
UID:13608-1556352000-1556384400@lasouthreia.com
SUMMARY:Family Bank Game 4-27
DESCRIPTION:WHAT DO YOU LEARN FROM THIS GAME???? \n\nLearn to move from being a “Debtor” to being a ‘Wealth Creator”\nLearn to create a “Vault” that protects and continues to create your wealth.\nLearn which loans payback the fastest.\nLearn which borrowers to deal with to accelerate your wealth building the fastest.\nLearn the secret to keeping money in your family instead of giving it away.\nLearn how to prevent paying interest to institutions like credit cards\, medical\, student loans\, mortgages…etc.\nLearn to use other products\, like insurance\, to make money and keep it… tax-free.\nLearn to help family members who can’t qualify for loans.\nLearn to communicate the “right way” about money.\nLearn from the FULL COMPREHENSIVE REFERENCE GUIDE WORKBOOK you get to keep.\nLearn to pass on wealth and knowledge to your future generations.\n\n \n \nCREATED BY GEORGE ANTONE \nGeorge Antone is a thought leader in the field of private lending and alternative investments\, a lifestyle entrepreneur\, the author of the best-selling books The Wealthy Code\, The Banker’s Code and The Debt Millionaire\, and an award-winning speaker on the topic of investing. \nGeorge is also a co-founder of the world’s largest network of private money-lenders. As the Chief Wealth Strategist for MPactWealth and his new company Fynanc\, George challenges everything we know about personal finance and investing\, and works to develop new and innovative strategies that help bring people closer to their financial goals and better\, more fulfilling lifestyles. \n  \n \nWhat Is The Family Bank Game?\nThe Family Bank Game is an interactive\, fun\, and educational immersive event played in a live setting with other partici­pants.\nGame players\, both individuals and families\, learn proven strategies that have been used for hundreds of years by some of the richest families in the world. \n“The Family Bank” strategy is based on lever­aging the benefits of banks to fund the vari­ous needs of the family now and in the future.\nOur game-based learning method provides for the highest level of engagement and motivation\,\nand ensures that all attend­ees leave the event with the skills needed to immediately implement the family bank con­cept in their own lives. \n$59 per player \n 
URL:https://lasouthreia.com/event/family-bank-game-4-27/
CATEGORIES:Educational Games,Future Events,Workshops
ATTACH;FMTTYPE=image/jpeg:https://lasouthreia.com/wp-content/uploads/Family-Bank-Large-WEB-V2--scaled.jpg
END:VEVENT
END:VCALENDAR